BEGIN:VCALENDAR
VERSION:2.0
PRODID:-//St Peters Lutheran Congregation, Orange NSW - ECPv6.15.14//NONSGML v1.0//EN
CALSCALE:GREGORIAN
METHOD:PUBLISH
X-WR-CALNAME:St Peters Lutheran Congregation, Orange NSW
X-ORIGINAL-URL:https://orange.lutheran.org.au
X-WR-CALDESC:Events for St Peters Lutheran Congregation, Orange NSW
REFRESH-INTERVAL;VALUE=DURATION:PT1H
X-Robots-Tag:noindex
X-PUBLISHED-TTL:PT1H
BEGIN:VTIMEZONE
TZID:Australia/Sydney
BEGIN:STANDARD
TZOFFSETFROM:+1100
TZOFFSETTO:+1000
TZNAME:AEST
DTSTART:20180331T160000
END:STANDARD
BEGIN:DAYLIGHT
TZOFFSETFROM:+1000
TZOFFSETTO:+1100
TZNAME:AEDT
DTSTART:20181006T160000
END:DAYLIGHT
BEGIN:STANDARD
TZOFFSETFROM:+1100
TZOFFSETTO:+1000
TZNAME:AEST
DTSTART:20190406T160000
END:STANDARD
BEGIN:DAYLIGHT
TZOFFSETFROM:+1000
TZOFFSETTO:+1100
TZNAME:AEDT
DTSTART:20191005T160000
END:DAYLIGHT
BEGIN:STANDARD
TZOFFSETFROM:+1100
TZOFFSETTO:+1000
TZNAME:AEST
DTSTART:20200404T160000
END:STANDARD
BEGIN:DAYLIGHT
TZOFFSETFROM:+1000
TZOFFSETTO:+1100
TZNAME:AEDT
DTSTART:20201003T160000
END:DAYLIGHT
END:VTIMEZONE
BEGIN:VEVENT
DTSTART;TZID=Australia/Sydney:20190609T103000
DTEND;TZID=Australia/Sydney:20190609T113000
DTSTAMP:20260425T015205
CREATED:20181217T052419Z
LAST-MODIFIED:20190602T005332Z
UID:10000096-1560076200-1560079800@orange.lutheran.org.au
SUMMARY:Parish Service - Holy Communion Parkes
DESCRIPTION:Installation of Brant Waterson as Discipleship and Outreach Co-ordinator. \nLuncheon to follow service in the hall.
URL:https://orange.lutheran.org.au/event/worship-service-lay-reading-2019-06-09/
LOCATION:St Paul’s Lutheran Church – Parkes\, 96 Currajong St\, Parkes\, NSW\, 2870\, Australia
CATEGORIES:Worship
GEO:-33.1321181;148.1751993
X-APPLE-STRUCTURED-LOCATION;VALUE=URI;X-ADDRESS=St Paul’s Lutheran Church – Parkes 96 Currajong St Parkes NSW 2870 Australia;X-APPLE-RADIUS=500;X-TITLE=96 Currajong St:geo:148.1751993,-33.1321181
END:VEVENT
END:VCALENDAR