BEGIN:VCALENDAR
VERSION:2.0
PRODID:-//St Peters Lutheran Congregation, Orange NSW - ECPv6.15.14//NONSGML v1.0//EN
CALSCALE:GREGORIAN
METHOD:PUBLISH
X-WR-CALNAME:St Peters Lutheran Congregation, Orange NSW
X-ORIGINAL-URL:https://orange.lutheran.org.au
X-WR-CALDESC:Events for St Peters Lutheran Congregation, Orange NSW
REFRESH-INTERVAL;VALUE=DURATION:PT1H
X-Robots-Tag:noindex
X-PUBLISHED-TTL:PT1H
BEGIN:VTIMEZONE
TZID:Australia/Sydney
BEGIN:STANDARD
TZOFFSETFROM:+1100
TZOFFSETTO:+1000
TZNAME:AEST
DTSTART:20180331T160000
END:STANDARD
BEGIN:DAYLIGHT
TZOFFSETFROM:+1000
TZOFFSETTO:+1100
TZNAME:AEDT
DTSTART:20181006T160000
END:DAYLIGHT
BEGIN:STANDARD
TZOFFSETFROM:+1100
TZOFFSETTO:+1000
TZNAME:AEST
DTSTART:20190406T160000
END:STANDARD
BEGIN:DAYLIGHT
TZOFFSETFROM:+1000
TZOFFSETTO:+1100
TZNAME:AEDT
DTSTART:20191005T160000
END:DAYLIGHT
BEGIN:STANDARD
TZOFFSETFROM:+1100
TZOFFSETTO:+1000
TZNAME:AEST
DTSTART:20200404T160000
END:STANDARD
BEGIN:DAYLIGHT
TZOFFSETFROM:+1000
TZOFFSETTO:+1100
TZNAME:AEDT
DTSTART:20201003T160000
END:DAYLIGHT
BEGIN:STANDARD
TZOFFSETFROM:+1100
TZOFFSETTO:+1000
TZNAME:AEST
DTSTART:20210403T160000
END:STANDARD
BEGIN:DAYLIGHT
TZOFFSETFROM:+1000
TZOFFSETTO:+1100
TZNAME:AEDT
DTSTART:20211002T160000
END:DAYLIGHT
END:VTIMEZONE
BEGIN:VEVENT
DTSTART;TZID=Australia/Sydney:20200628T100000
DTEND;TZID=Australia/Sydney:20200628T110000
DTSTAMP:20260424T095822
CREATED:20181217T052405Z
LAST-MODIFIED:20200209T025938Z
UID:10000237-1593338400-1593342000@orange.lutheran.org.au
SUMMARY:Worship Service with Holy Communion
DESCRIPTION:
URL:https://orange.lutheran.org.au/event/worship-service-lay-reading/2020-06-28/
LOCATION:St Peters Lutheran Church – Orange\, 12 Heathbrae Parade\, Orange\, NSW\, 2800\, Australia
CATEGORIES:Worship
GEO:-33.2668758;149.1073598
X-APPLE-STRUCTURED-LOCATION;VALUE=URI;X-ADDRESS=St Peters Lutheran Church – Orange 12 Heathbrae Parade Orange NSW 2800 Australia;X-APPLE-RADIUS=500;X-TITLE=12 Heathbrae Parade:geo:149.1073598,-33.2668758
END:VEVENT
BEGIN:VEVENT
DTSTART;TZID=Australia/Sydney:20200621T113000
DTEND;TZID=Australia/Sydney:20200621T123000
DTSTAMP:20260424T095822
CREATED:20181217T052530Z
LAST-MODIFIED:20181217T052715Z
UID:10000113-1592739000-1592742600@orange.lutheran.org.au
SUMMARY:Worship Service with Communion
DESCRIPTION:
URL:https://orange.lutheran.org.au/event/worship-service-with-communion/2020-06-21/
LOCATION:St Peters Lutheran Church – Orange\, 12 Heathbrae Parade\, Orange\, NSW\, 2800\, Australia
CATEGORIES:Worship
ATTACH;FMTTYPE=image/jpeg:https://orange.lutheran.org.au/wp-content/uploads/2018/12/communion-cup.jpg
GEO:-33.2668758;149.1073598
X-APPLE-STRUCTURED-LOCATION;VALUE=URI;X-ADDRESS=St Peters Lutheran Church – Orange 12 Heathbrae Parade Orange NSW 2800 Australia;X-APPLE-RADIUS=500;X-TITLE=12 Heathbrae Parade:geo:149.1073598,-33.2668758
END:VEVENT
BEGIN:VEVENT
DTSTART;TZID=Australia/Sydney:20200614T100000
DTEND;TZID=Australia/Sydney:20200614T110000
DTSTAMP:20260424T095822
CREATED:20181217T052405Z
LAST-MODIFIED:20200209T025938Z
UID:10000236-1592128800-1592132400@orange.lutheran.org.au
SUMMARY:Worship Service with Holy Communion
DESCRIPTION:
URL:https://orange.lutheran.org.au/event/worship-service-lay-reading/2020-06-14/
LOCATION:St Peters Lutheran Church – Orange\, 12 Heathbrae Parade\, Orange\, NSW\, 2800\, Australia
CATEGORIES:Worship
GEO:-33.2668758;149.1073598
X-APPLE-STRUCTURED-LOCATION;VALUE=URI;X-ADDRESS=St Peters Lutheran Church – Orange 12 Heathbrae Parade Orange NSW 2800 Australia;X-APPLE-RADIUS=500;X-TITLE=12 Heathbrae Parade:geo:149.1073598,-33.2668758
END:VEVENT
BEGIN:VEVENT
DTSTART;TZID=Australia/Sydney:20200607T100000
DTEND;TZID=Australia/Sydney:20200607T110000
DTSTAMP:20260424T095822
CREATED:20181217T052405Z
LAST-MODIFIED:20200209T025938Z
UID:10000235-1591524000-1591527600@orange.lutheran.org.au
SUMMARY:Worship Service with Holy Communion
DESCRIPTION:
URL:https://orange.lutheran.org.au/event/worship-service-lay-reading/2020-06-07/
LOCATION:St Peters Lutheran Church – Orange\, 12 Heathbrae Parade\, Orange\, NSW\, 2800\, Australia
CATEGORIES:Worship
GEO:-33.2668758;149.1073598
X-APPLE-STRUCTURED-LOCATION;VALUE=URI;X-ADDRESS=St Peters Lutheran Church – Orange 12 Heathbrae Parade Orange NSW 2800 Australia;X-APPLE-RADIUS=500;X-TITLE=12 Heathbrae Parade:geo:149.1073598,-33.2668758
END:VEVENT
BEGIN:VEVENT
DTSTART;TZID=Australia/Sydney:20200531T100000
DTEND;TZID=Australia/Sydney:20200531T110000
DTSTAMP:20260424T095822
CREATED:20181217T052405Z
LAST-MODIFIED:20200209T025938Z
UID:10000234-1590919200-1590922800@orange.lutheran.org.au
SUMMARY:Worship Service with Holy Communion
DESCRIPTION:
URL:https://orange.lutheran.org.au/event/worship-service-lay-reading/2020-05-31/
LOCATION:St Peters Lutheran Church – Orange\, 12 Heathbrae Parade\, Orange\, NSW\, 2800\, Australia
CATEGORIES:Worship
GEO:-33.2668758;149.1073598
X-APPLE-STRUCTURED-LOCATION;VALUE=URI;X-ADDRESS=St Peters Lutheran Church – Orange 12 Heathbrae Parade Orange NSW 2800 Australia;X-APPLE-RADIUS=500;X-TITLE=12 Heathbrae Parade:geo:149.1073598,-33.2668758
END:VEVENT
BEGIN:VEVENT
DTSTART;TZID=Australia/Sydney:20200524T100000
DTEND;TZID=Australia/Sydney:20200524T110000
DTSTAMP:20260424T095822
CREATED:20181217T052405Z
LAST-MODIFIED:20200209T025938Z
UID:10000233-1590314400-1590318000@orange.lutheran.org.au
SUMMARY:Worship Service with Holy Communion
DESCRIPTION:
URL:https://orange.lutheran.org.au/event/worship-service-lay-reading/2020-05-24/
LOCATION:St Peters Lutheran Church – Orange\, 12 Heathbrae Parade\, Orange\, NSW\, 2800\, Australia
CATEGORIES:Worship
GEO:-33.2668758;149.1073598
X-APPLE-STRUCTURED-LOCATION;VALUE=URI;X-ADDRESS=St Peters Lutheran Church – Orange 12 Heathbrae Parade Orange NSW 2800 Australia;X-APPLE-RADIUS=500;X-TITLE=12 Heathbrae Parade:geo:149.1073598,-33.2668758
END:VEVENT
BEGIN:VEVENT
DTSTART;TZID=Australia/Sydney:20200517T113000
DTEND;TZID=Australia/Sydney:20200517T123000
DTSTAMP:20260424T095822
CREATED:20181217T052530Z
LAST-MODIFIED:20181217T052715Z
UID:10000112-1589715000-1589718600@orange.lutheran.org.au
SUMMARY:Worship Service with Communion
DESCRIPTION:
URL:https://orange.lutheran.org.au/event/worship-service-with-communion/2020-05-17/
LOCATION:St Peters Lutheran Church – Orange\, 12 Heathbrae Parade\, Orange\, NSW\, 2800\, Australia
CATEGORIES:Worship
ATTACH;FMTTYPE=image/jpeg:https://orange.lutheran.org.au/wp-content/uploads/2018/12/communion-cup.jpg
GEO:-33.2668758;149.1073598
X-APPLE-STRUCTURED-LOCATION;VALUE=URI;X-ADDRESS=St Peters Lutheran Church – Orange 12 Heathbrae Parade Orange NSW 2800 Australia;X-APPLE-RADIUS=500;X-TITLE=12 Heathbrae Parade:geo:149.1073598,-33.2668758
END:VEVENT
BEGIN:VEVENT
DTSTART;TZID=Australia/Sydney:20200510T100000
DTEND;TZID=Australia/Sydney:20200510T110000
DTSTAMP:20260424T095822
CREATED:20181217T052405Z
LAST-MODIFIED:20200209T025938Z
UID:10000232-1589104800-1589108400@orange.lutheran.org.au
SUMMARY:Worship Service with Holy Communion
DESCRIPTION:
URL:https://orange.lutheran.org.au/event/worship-service-lay-reading/2020-05-10/
LOCATION:St Peters Lutheran Church – Orange\, 12 Heathbrae Parade\, Orange\, NSW\, 2800\, Australia
CATEGORIES:Worship
GEO:-33.2668758;149.1073598
X-APPLE-STRUCTURED-LOCATION;VALUE=URI;X-ADDRESS=St Peters Lutheran Church – Orange 12 Heathbrae Parade Orange NSW 2800 Australia;X-APPLE-RADIUS=500;X-TITLE=12 Heathbrae Parade:geo:149.1073598,-33.2668758
END:VEVENT
BEGIN:VEVENT
DTSTART;TZID=Australia/Sydney:20200503T100000
DTEND;TZID=Australia/Sydney:20200503T110000
DTSTAMP:20260424T095822
CREATED:20181217T052405Z
LAST-MODIFIED:20200209T025938Z
UID:10000231-1588500000-1588503600@orange.lutheran.org.au
SUMMARY:Worship Service with Holy Communion
DESCRIPTION:
URL:https://orange.lutheran.org.au/event/worship-service-lay-reading/2020-05-03/
LOCATION:St Peters Lutheran Church – Orange\, 12 Heathbrae Parade\, Orange\, NSW\, 2800\, Australia
CATEGORIES:Worship
GEO:-33.2668758;149.1073598
X-APPLE-STRUCTURED-LOCATION;VALUE=URI;X-ADDRESS=St Peters Lutheran Church – Orange 12 Heathbrae Parade Orange NSW 2800 Australia;X-APPLE-RADIUS=500;X-TITLE=12 Heathbrae Parade:geo:149.1073598,-33.2668758
END:VEVENT
BEGIN:VEVENT
DTSTART;TZID=Australia/Sydney:20200426T100000
DTEND;TZID=Australia/Sydney:20200426T110000
DTSTAMP:20260424T095822
CREATED:20181217T052405Z
LAST-MODIFIED:20200209T025938Z
UID:10000230-1587895200-1587898800@orange.lutheran.org.au
SUMMARY:Worship Service with Holy Communion
DESCRIPTION:
URL:https://orange.lutheran.org.au/event/worship-service-lay-reading/2020-04-26/
LOCATION:St Peters Lutheran Church – Orange\, 12 Heathbrae Parade\, Orange\, NSW\, 2800\, Australia
CATEGORIES:Worship
GEO:-33.2668758;149.1073598
X-APPLE-STRUCTURED-LOCATION;VALUE=URI;X-ADDRESS=St Peters Lutheran Church – Orange 12 Heathbrae Parade Orange NSW 2800 Australia;X-APPLE-RADIUS=500;X-TITLE=12 Heathbrae Parade:geo:149.1073598,-33.2668758
END:VEVENT
BEGIN:VEVENT
DTSTART;TZID=Australia/Sydney:20200419T113000
DTEND;TZID=Australia/Sydney:20200419T123000
DTSTAMP:20260424T095822
CREATED:20181217T052530Z
LAST-MODIFIED:20181217T052715Z
UID:10000111-1587295800-1587299400@orange.lutheran.org.au
SUMMARY:Worship Service with Communion
DESCRIPTION:
URL:https://orange.lutheran.org.au/event/worship-service-with-communion/2020-04-19/
LOCATION:St Peters Lutheran Church – Orange\, 12 Heathbrae Parade\, Orange\, NSW\, 2800\, Australia
CATEGORIES:Worship
ATTACH;FMTTYPE=image/jpeg:https://orange.lutheran.org.au/wp-content/uploads/2018/12/communion-cup.jpg
GEO:-33.2668758;149.1073598
X-APPLE-STRUCTURED-LOCATION;VALUE=URI;X-ADDRESS=St Peters Lutheran Church – Orange 12 Heathbrae Parade Orange NSW 2800 Australia;X-APPLE-RADIUS=500;X-TITLE=12 Heathbrae Parade:geo:149.1073598,-33.2668758
END:VEVENT
BEGIN:VEVENT
DTSTART;TZID=Australia/Sydney:20200412T100000
DTEND;TZID=Australia/Sydney:20200412T110000
DTSTAMP:20260424T095822
CREATED:20181217T052405Z
LAST-MODIFIED:20200209T025938Z
UID:10000229-1586685600-1586689200@orange.lutheran.org.au
SUMMARY:Worship Service with Holy Communion
DESCRIPTION:
URL:https://orange.lutheran.org.au/event/worship-service-lay-reading/2020-04-12/
LOCATION:St Peters Lutheran Church – Orange\, 12 Heathbrae Parade\, Orange\, NSW\, 2800\, Australia
CATEGORIES:Worship
GEO:-33.2668758;149.1073598
X-APPLE-STRUCTURED-LOCATION;VALUE=URI;X-ADDRESS=St Peters Lutheran Church – Orange 12 Heathbrae Parade Orange NSW 2800 Australia;X-APPLE-RADIUS=500;X-TITLE=12 Heathbrae Parade:geo:149.1073598,-33.2668758
END:VEVENT
BEGIN:VEVENT
DTSTART;TZID=Australia/Sydney:20200405T100000
DTEND;TZID=Australia/Sydney:20200405T110000
DTSTAMP:20260424T095822
CREATED:20181217T052405Z
LAST-MODIFIED:20200209T025938Z
UID:10000228-1586080800-1586084400@orange.lutheran.org.au
SUMMARY:Worship Service with Holy Communion
DESCRIPTION:
URL:https://orange.lutheran.org.au/event/worship-service-lay-reading/2020-04-05/
LOCATION:St Peters Lutheran Church – Orange\, 12 Heathbrae Parade\, Orange\, NSW\, 2800\, Australia
CATEGORIES:Worship
GEO:-33.2668758;149.1073598
X-APPLE-STRUCTURED-LOCATION;VALUE=URI;X-ADDRESS=St Peters Lutheran Church – Orange 12 Heathbrae Parade Orange NSW 2800 Australia;X-APPLE-RADIUS=500;X-TITLE=12 Heathbrae Parade:geo:149.1073598,-33.2668758
END:VEVENT
BEGIN:VEVENT
DTSTART;TZID=Australia/Sydney:20200329T100000
DTEND;TZID=Australia/Sydney:20200329T110000
DTSTAMP:20260424T095822
CREATED:20181217T052405Z
LAST-MODIFIED:20200209T025938Z
UID:10000227-1585476000-1585479600@orange.lutheran.org.au
SUMMARY:Worship Service with Holy Communion
DESCRIPTION:
URL:https://orange.lutheran.org.au/event/worship-service-lay-reading/2020-03-29/
LOCATION:St Peters Lutheran Church – Orange\, 12 Heathbrae Parade\, Orange\, NSW\, 2800\, Australia
CATEGORIES:Worship
GEO:-33.2668758;149.1073598
X-APPLE-STRUCTURED-LOCATION;VALUE=URI;X-ADDRESS=St Peters Lutheran Church – Orange 12 Heathbrae Parade Orange NSW 2800 Australia;X-APPLE-RADIUS=500;X-TITLE=12 Heathbrae Parade:geo:149.1073598,-33.2668758
END:VEVENT
BEGIN:VEVENT
DTSTART;TZID=Australia/Sydney:20200322T100000
DTEND;TZID=Australia/Sydney:20200322T110000
DTSTAMP:20260424T095822
CREATED:20181217T052405Z
LAST-MODIFIED:20200209T025938Z
UID:10000226-1584871200-1584874800@orange.lutheran.org.au
SUMMARY:Worship Service with Holy Communion
DESCRIPTION:
URL:https://orange.lutheran.org.au/event/worship-service-lay-reading/2020-03-22/
LOCATION:St Peters Lutheran Church – Orange\, 12 Heathbrae Parade\, Orange\, NSW\, 2800\, Australia
CATEGORIES:Worship
GEO:-33.2668758;149.1073598
X-APPLE-STRUCTURED-LOCATION;VALUE=URI;X-ADDRESS=St Peters Lutheran Church – Orange 12 Heathbrae Parade Orange NSW 2800 Australia;X-APPLE-RADIUS=500;X-TITLE=12 Heathbrae Parade:geo:149.1073598,-33.2668758
END:VEVENT
BEGIN:VEVENT
DTSTART;TZID=Australia/Sydney:20200315T113000
DTEND;TZID=Australia/Sydney:20200315T123000
DTSTAMP:20260424T095822
CREATED:20181217T052530Z
LAST-MODIFIED:20181217T052715Z
UID:10000110-1584271800-1584275400@orange.lutheran.org.au
SUMMARY:Worship Service with Communion
DESCRIPTION:
URL:https://orange.lutheran.org.au/event/worship-service-with-communion/2020-03-15/
LOCATION:St Peters Lutheran Church – Orange\, 12 Heathbrae Parade\, Orange\, NSW\, 2800\, Australia
CATEGORIES:Worship
ATTACH;FMTTYPE=image/jpeg:https://orange.lutheran.org.au/wp-content/uploads/2018/12/communion-cup.jpg
GEO:-33.2668758;149.1073598
X-APPLE-STRUCTURED-LOCATION;VALUE=URI;X-ADDRESS=St Peters Lutheran Church – Orange 12 Heathbrae Parade Orange NSW 2800 Australia;X-APPLE-RADIUS=500;X-TITLE=12 Heathbrae Parade:geo:149.1073598,-33.2668758
END:VEVENT
BEGIN:VEVENT
DTSTART;TZID=Australia/Sydney:20200308T100000
DTEND;TZID=Australia/Sydney:20200308T110000
DTSTAMP:20260424T095822
CREATED:20181217T052405Z
LAST-MODIFIED:20200209T030929Z
UID:10000482-1583661600-1583665200@orange.lutheran.org.au
SUMMARY:Worship Service with Holy Communion
DESCRIPTION:Service to be taken by Brant Waterson
URL:https://orange.lutheran.org.au/event/worship-service-lay-reading-2020-03-08/
LOCATION:St Peters Lutheran Church – Orange\, 12 Heathbrae Parade\, Orange\, NSW\, 2800\, Australia
CATEGORIES:Worship
GEO:-33.2668758;149.1073598
X-APPLE-STRUCTURED-LOCATION;VALUE=URI;X-ADDRESS=St Peters Lutheran Church – Orange 12 Heathbrae Parade Orange NSW 2800 Australia;X-APPLE-RADIUS=500;X-TITLE=12 Heathbrae Parade:geo:149.1073598,-33.2668758
END:VEVENT
BEGIN:VEVENT
DTSTART;TZID=Australia/Sydney:20200304T180000
DTEND;TZID=Australia/Sydney:20200304T190000
DTSTAMP:20260424T095822
CREATED:20200209T030740Z
LAST-MODIFIED:20200209T030740Z
UID:10000006-1583344800-1583348400@orange.lutheran.org.au
SUMMARY:Lent 1 Service
DESCRIPTION:To be taken by Brant Waterson
URL:https://orange.lutheran.org.au/event/lent-1-service/
LOCATION:St Peters Lutheran Church – Orange\, 12 Heathbrae Parade\, Orange\, NSW\, 2800\, Australia
GEO:-33.2668758;149.1073598
X-APPLE-STRUCTURED-LOCATION;VALUE=URI;X-ADDRESS=St Peters Lutheran Church – Orange 12 Heathbrae Parade Orange NSW 2800 Australia;X-APPLE-RADIUS=500;X-TITLE=12 Heathbrae Parade:geo:149.1073598,-33.2668758
END:VEVENT
BEGIN:VEVENT
DTSTART;TZID=Australia/Sydney:20200301T100000
DTEND;TZID=Australia/Sydney:20200301T110000
DTSTAMP:20260424T095822
CREATED:20181217T052405Z
LAST-MODIFIED:20200209T030532Z
UID:10000480-1583056800-1583060400@orange.lutheran.org.au
SUMMARY:Worship Service with Holy Communion
DESCRIPTION:Service to be taken by Pastor James Leach followed by our congregation AGM
URL:https://orange.lutheran.org.au/event/worship-service-lay-reading-2020-03-01/
LOCATION:St Peters Lutheran Church – Orange\, 12 Heathbrae Parade\, Orange\, NSW\, 2800\, Australia
CATEGORIES:Worship
GEO:-33.2668758;149.1073598
X-APPLE-STRUCTURED-LOCATION;VALUE=URI;X-ADDRESS=St Peters Lutheran Church – Orange 12 Heathbrae Parade Orange NSW 2800 Australia;X-APPLE-RADIUS=500;X-TITLE=12 Heathbrae Parade:geo:149.1073598,-33.2668758
END:VEVENT
BEGIN:VEVENT
DTSTART;TZID=Australia/Sydney:20200226T173000
DTEND;TZID=Australia/Sydney:20200226T183000
DTSTAMP:20260424T095822
CREATED:20200209T025741Z
LAST-MODIFIED:20200209T025741Z
UID:10000005-1582738200-1582741800@orange.lutheran.org.au
SUMMARY:Ash Wednesday Service
DESCRIPTION:Service to be lead by Brant Waterson
URL:https://orange.lutheran.org.au/event/ash-wednesday-service/
LOCATION:St Peters Lutheran Church – Orange\, 12 Heathbrae Parade\, Orange\, NSW\, 2800\, Australia
GEO:-33.2668758;149.1073598
X-APPLE-STRUCTURED-LOCATION;VALUE=URI;X-ADDRESS=St Peters Lutheran Church – Orange 12 Heathbrae Parade Orange NSW 2800 Australia;X-APPLE-RADIUS=500;X-TITLE=12 Heathbrae Parade:geo:149.1073598,-33.2668758
END:VEVENT
BEGIN:VEVENT
DTSTART;TZID=Australia/Sydney:20200223T100000
DTEND;TZID=Australia/Sydney:20200223T110000
DTSTAMP:20260424T095822
CREATED:20181217T052405Z
LAST-MODIFIED:20200209T025938Z
UID:10000225-1582452000-1582455600@orange.lutheran.org.au
SUMMARY:Worship Service with Holy Communion
DESCRIPTION:
URL:https://orange.lutheran.org.au/event/worship-service-lay-reading/2020-02-23/
LOCATION:St Peters Lutheran Church – Orange\, 12 Heathbrae Parade\, Orange\, NSW\, 2800\, Australia
CATEGORIES:Worship
GEO:-33.2668758;149.1073598
X-APPLE-STRUCTURED-LOCATION;VALUE=URI;X-ADDRESS=St Peters Lutheran Church – Orange 12 Heathbrae Parade Orange NSW 2800 Australia;X-APPLE-RADIUS=500;X-TITLE=12 Heathbrae Parade:geo:149.1073598,-33.2668758
END:VEVENT
BEGIN:VEVENT
DTSTART;TZID=Australia/Sydney:20200216T113000
DTEND;TZID=Australia/Sydney:20200216T123000
DTSTAMP:20260424T095822
CREATED:20181217T052530Z
LAST-MODIFIED:20181217T052715Z
UID:10000109-1581852600-1581856200@orange.lutheran.org.au
SUMMARY:Worship Service with Communion
DESCRIPTION:
URL:https://orange.lutheran.org.au/event/worship-service-with-communion/2020-02-16/
LOCATION:St Peters Lutheran Church – Orange\, 12 Heathbrae Parade\, Orange\, NSW\, 2800\, Australia
CATEGORIES:Worship
ATTACH;FMTTYPE=image/jpeg:https://orange.lutheran.org.au/wp-content/uploads/2018/12/communion-cup.jpg
GEO:-33.2668758;149.1073598
X-APPLE-STRUCTURED-LOCATION;VALUE=URI;X-ADDRESS=St Peters Lutheran Church – Orange 12 Heathbrae Parade Orange NSW 2800 Australia;X-APPLE-RADIUS=500;X-TITLE=12 Heathbrae Parade:geo:149.1073598,-33.2668758
END:VEVENT
BEGIN:VEVENT
DTSTART;TZID=Australia/Sydney:20200216T100000
DTEND;TZID=Australia/Sydney:20200216T110000
DTSTAMP:20260424T095822
CREATED:20200209T025603Z
LAST-MODIFIED:20200209T025603Z
UID:10000004-1581847200-1581850800@orange.lutheran.org.au
SUMMARY:Worhship Service with Holy Communion
DESCRIPTION:Service to be taken by Brant Waterson
URL:https://orange.lutheran.org.au/event/worhship-service-with-holy-communion/
LOCATION:St Peters Lutheran Church – Orange\, 12 Heathbrae Parade\, Orange\, NSW\, 2800\, Australia
GEO:-33.2668758;149.1073598
X-APPLE-STRUCTURED-LOCATION;VALUE=URI;X-ADDRESS=St Peters Lutheran Church – Orange 12 Heathbrae Parade Orange NSW 2800 Australia;X-APPLE-RADIUS=500;X-TITLE=12 Heathbrae Parade:geo:149.1073598,-33.2668758
END:VEVENT
BEGIN:VEVENT
DTSTART;TZID=Australia/Sydney:20200209T100000
DTEND;TZID=Australia/Sydney:20200209T110000
DTSTAMP:20260424T095822
CREATED:20181217T052405Z
LAST-MODIFIED:20200209T025938Z
UID:10000224-1581242400-1581246000@orange.lutheran.org.au
SUMMARY:Worship Service with Holy Communion
DESCRIPTION:
URL:https://orange.lutheran.org.au/event/worship-service-lay-reading/2020-02-09/
LOCATION:St Peters Lutheran Church – Orange\, 12 Heathbrae Parade\, Orange\, NSW\, 2800\, Australia
CATEGORIES:Worship
GEO:-33.2668758;149.1073598
X-APPLE-STRUCTURED-LOCATION;VALUE=URI;X-ADDRESS=St Peters Lutheran Church – Orange 12 Heathbrae Parade Orange NSW 2800 Australia;X-APPLE-RADIUS=500;X-TITLE=12 Heathbrae Parade:geo:149.1073598,-33.2668758
END:VEVENT
BEGIN:VEVENT
DTSTART;TZID=Australia/Sydney:20200202T100000
DTEND;TZID=Australia/Sydney:20200202T110000
DTSTAMP:20260424T095822
CREATED:20181217T052405Z
LAST-MODIFIED:20200209T025938Z
UID:10000223-1580637600-1580641200@orange.lutheran.org.au
SUMMARY:Worship Service with Holy Communion
DESCRIPTION:
URL:https://orange.lutheran.org.au/event/worship-service-lay-reading/2020-02-02/
LOCATION:St Peters Lutheran Church – Orange\, 12 Heathbrae Parade\, Orange\, NSW\, 2800\, Australia
CATEGORIES:Worship
GEO:-33.2668758;149.1073598
X-APPLE-STRUCTURED-LOCATION;VALUE=URI;X-ADDRESS=St Peters Lutheran Church – Orange 12 Heathbrae Parade Orange NSW 2800 Australia;X-APPLE-RADIUS=500;X-TITLE=12 Heathbrae Parade:geo:149.1073598,-33.2668758
END:VEVENT
BEGIN:VEVENT
DTSTART;TZID=Australia/Sydney:20200126T100000
DTEND;TZID=Australia/Sydney:20200126T110000
DTSTAMP:20260424T095822
CREATED:20181217T052405Z
LAST-MODIFIED:20200209T025938Z
UID:10000222-1580032800-1580036400@orange.lutheran.org.au
SUMMARY:Worship Service with Holy Communion
DESCRIPTION:
URL:https://orange.lutheran.org.au/event/worship-service-lay-reading/2020-01-26/
LOCATION:St Peters Lutheran Church – Orange\, 12 Heathbrae Parade\, Orange\, NSW\, 2800\, Australia
CATEGORIES:Worship
GEO:-33.2668758;149.1073598
X-APPLE-STRUCTURED-LOCATION;VALUE=URI;X-ADDRESS=St Peters Lutheran Church – Orange 12 Heathbrae Parade Orange NSW 2800 Australia;X-APPLE-RADIUS=500;X-TITLE=12 Heathbrae Parade:geo:149.1073598,-33.2668758
END:VEVENT
BEGIN:VEVENT
DTSTART;TZID=Australia/Sydney:20200119T113000
DTEND;TZID=Australia/Sydney:20200119T123000
DTSTAMP:20260424T095822
CREATED:20181217T052530Z
LAST-MODIFIED:20181217T052715Z
UID:10000108-1579433400-1579437000@orange.lutheran.org.au
SUMMARY:Worship Service with Communion
DESCRIPTION:
URL:https://orange.lutheran.org.au/event/worship-service-with-communion/2020-01-19/
LOCATION:St Peters Lutheran Church – Orange\, 12 Heathbrae Parade\, Orange\, NSW\, 2800\, Australia
CATEGORIES:Worship
ATTACH;FMTTYPE=image/jpeg:https://orange.lutheran.org.au/wp-content/uploads/2018/12/communion-cup.jpg
GEO:-33.2668758;149.1073598
X-APPLE-STRUCTURED-LOCATION;VALUE=URI;X-ADDRESS=St Peters Lutheran Church – Orange 12 Heathbrae Parade Orange NSW 2800 Australia;X-APPLE-RADIUS=500;X-TITLE=12 Heathbrae Parade:geo:149.1073598,-33.2668758
END:VEVENT
BEGIN:VEVENT
DTSTART;TZID=Australia/Sydney:20200112T100000
DTEND;TZID=Australia/Sydney:20200112T110000
DTSTAMP:20260424T095822
CREATED:20181217T052405Z
LAST-MODIFIED:20200209T025938Z
UID:10000221-1578823200-1578826800@orange.lutheran.org.au
SUMMARY:Worship Service with Holy Communion
DESCRIPTION:
URL:https://orange.lutheran.org.au/event/worship-service-lay-reading/2020-01-12/
LOCATION:St Peters Lutheran Church – Orange\, 12 Heathbrae Parade\, Orange\, NSW\, 2800\, Australia
CATEGORIES:Worship
GEO:-33.2668758;149.1073598
X-APPLE-STRUCTURED-LOCATION;VALUE=URI;X-ADDRESS=St Peters Lutheran Church – Orange 12 Heathbrae Parade Orange NSW 2800 Australia;X-APPLE-RADIUS=500;X-TITLE=12 Heathbrae Parade:geo:149.1073598,-33.2668758
END:VEVENT
BEGIN:VEVENT
DTSTART;TZID=Australia/Sydney:20200105T100000
DTEND;TZID=Australia/Sydney:20200105T110000
DTSTAMP:20260424T095822
CREATED:20181217T052405Z
LAST-MODIFIED:20200209T025938Z
UID:10000220-1578218400-1578222000@orange.lutheran.org.au
SUMMARY:Worship Service with Holy Communion
DESCRIPTION:
URL:https://orange.lutheran.org.au/event/worship-service-lay-reading/2020-01-05/
LOCATION:St Peters Lutheran Church – Orange\, 12 Heathbrae Parade\, Orange\, NSW\, 2800\, Australia
CATEGORIES:Worship
GEO:-33.2668758;149.1073598
X-APPLE-STRUCTURED-LOCATION;VALUE=URI;X-ADDRESS=St Peters Lutheran Church – Orange 12 Heathbrae Parade Orange NSW 2800 Australia;X-APPLE-RADIUS=500;X-TITLE=12 Heathbrae Parade:geo:149.1073598,-33.2668758
END:VEVENT
BEGIN:VEVENT
DTSTART;TZID=Australia/Sydney:20191229T100000
DTEND;TZID=Australia/Sydney:20191229T110000
DTSTAMP:20260424T095822
CREATED:20181217T052405Z
LAST-MODIFIED:20200209T025938Z
UID:10000219-1577613600-1577617200@orange.lutheran.org.au
SUMMARY:Worship Service with Holy Communion
DESCRIPTION:
URL:https://orange.lutheran.org.au/event/worship-service-lay-reading/2019-12-29/
LOCATION:St Peters Lutheran Church – Orange\, 12 Heathbrae Parade\, Orange\, NSW\, 2800\, Australia
CATEGORIES:Worship
GEO:-33.2668758;149.1073598
X-APPLE-STRUCTURED-LOCATION;VALUE=URI;X-ADDRESS=St Peters Lutheran Church – Orange 12 Heathbrae Parade Orange NSW 2800 Australia;X-APPLE-RADIUS=500;X-TITLE=12 Heathbrae Parade:geo:149.1073598,-33.2668758
END:VEVENT
END:VCALENDAR