BEGIN:VCALENDAR
VERSION:2.0
PRODID:-//St Peters Lutheran Congregation, Orange NSW - ECPv6.15.14//NONSGML v1.0//EN
CALSCALE:GREGORIAN
METHOD:PUBLISH
X-WR-CALNAME:St Peters Lutheran Congregation, Orange NSW
X-ORIGINAL-URL:https://orange.lutheran.org.au
X-WR-CALDESC:Events for St Peters Lutheran Congregation, Orange NSW
REFRESH-INTERVAL;VALUE=DURATION:PT1H
X-Robots-Tag:noindex
X-PUBLISHED-TTL:PT1H
BEGIN:VTIMEZONE
TZID:Australia/Sydney
BEGIN:STANDARD
TZOFFSETFROM:+1100
TZOFFSETTO:+1000
TZNAME:AEST
DTSTART:20190406T160000
END:STANDARD
BEGIN:DAYLIGHT
TZOFFSETFROM:+1000
TZOFFSETTO:+1100
TZNAME:AEDT
DTSTART:20191005T160000
END:DAYLIGHT
BEGIN:STANDARD
TZOFFSETFROM:+1100
TZOFFSETTO:+1000
TZNAME:AEST
DTSTART:20200404T160000
END:STANDARD
BEGIN:DAYLIGHT
TZOFFSETFROM:+1000
TZOFFSETTO:+1100
TZNAME:AEDT
DTSTART:20201003T160000
END:DAYLIGHT
BEGIN:STANDARD
TZOFFSETFROM:+1100
TZOFFSETTO:+1000
TZNAME:AEST
DTSTART:20210403T160000
END:STANDARD
BEGIN:DAYLIGHT
TZOFFSETFROM:+1000
TZOFFSETTO:+1100
TZNAME:AEDT
DTSTART:20211002T160000
END:DAYLIGHT
BEGIN:STANDARD
TZOFFSETFROM:+1100
TZOFFSETTO:+1000
TZNAME:AEST
DTSTART:20220402T160000
END:STANDARD
BEGIN:DAYLIGHT
TZOFFSETFROM:+1000
TZOFFSETTO:+1100
TZNAME:AEDT
DTSTART:20221001T160000
END:DAYLIGHT
END:VTIMEZONE
BEGIN:VEVENT
DTSTART;TZID=Australia/Sydney:20210124T100000
DTEND;TZID=Australia/Sydney:20210124T110000
DTSTAMP:20260424T030022
CREATED:20181217T052405Z
LAST-MODIFIED:20200209T025938Z
UID:10000258-1611482400-1611486000@orange.lutheran.org.au
SUMMARY:Worship Service with Holy Communion
DESCRIPTION:
URL:https://orange.lutheran.org.au/event/worship-service-lay-reading/2021-01-24/
LOCATION:St Peters Lutheran Church – Orange\, 12 Heathbrae Parade\, Orange\, NSW\, 2800\, Australia
CATEGORIES:Worship
GEO:-33.2668758;149.1073598
X-APPLE-STRUCTURED-LOCATION;VALUE=URI;X-ADDRESS=St Peters Lutheran Church – Orange 12 Heathbrae Parade Orange NSW 2800 Australia;X-APPLE-RADIUS=500;X-TITLE=12 Heathbrae Parade:geo:149.1073598,-33.2668758
END:VEVENT
BEGIN:VEVENT
DTSTART;TZID=Australia/Sydney:20210117T113000
DTEND;TZID=Australia/Sydney:20210117T123000
DTSTAMP:20260424T030022
CREATED:20181217T052530Z
LAST-MODIFIED:20181217T052715Z
UID:10000120-1610883000-1610886600@orange.lutheran.org.au
SUMMARY:Worship Service with Communion
DESCRIPTION:
URL:https://orange.lutheran.org.au/event/worship-service-with-communion/2021-01-17/
LOCATION:St Peters Lutheran Church – Orange\, 12 Heathbrae Parade\, Orange\, NSW\, 2800\, Australia
CATEGORIES:Worship
ATTACH;FMTTYPE=image/jpeg:https://orange.lutheran.org.au/wp-content/uploads/2018/12/communion-cup.jpg
GEO:-33.2668758;149.1073598
X-APPLE-STRUCTURED-LOCATION;VALUE=URI;X-ADDRESS=St Peters Lutheran Church – Orange 12 Heathbrae Parade Orange NSW 2800 Australia;X-APPLE-RADIUS=500;X-TITLE=12 Heathbrae Parade:geo:149.1073598,-33.2668758
END:VEVENT
BEGIN:VEVENT
DTSTART;TZID=Australia/Sydney:20210110T100000
DTEND;TZID=Australia/Sydney:20210110T110000
DTSTAMP:20260424T030022
CREATED:20181217T052405Z
LAST-MODIFIED:20200209T025938Z
UID:10000257-1610272800-1610276400@orange.lutheran.org.au
SUMMARY:Worship Service with Holy Communion
DESCRIPTION:
URL:https://orange.lutheran.org.au/event/worship-service-lay-reading/2021-01-10/
LOCATION:St Peters Lutheran Church – Orange\, 12 Heathbrae Parade\, Orange\, NSW\, 2800\, Australia
CATEGORIES:Worship
GEO:-33.2668758;149.1073598
X-APPLE-STRUCTURED-LOCATION;VALUE=URI;X-ADDRESS=St Peters Lutheran Church – Orange 12 Heathbrae Parade Orange NSW 2800 Australia;X-APPLE-RADIUS=500;X-TITLE=12 Heathbrae Parade:geo:149.1073598,-33.2668758
END:VEVENT
BEGIN:VEVENT
DTSTART;TZID=Australia/Sydney:20210103T100000
DTEND;TZID=Australia/Sydney:20210103T110000
DTSTAMP:20260424T030022
CREATED:20181217T052405Z
LAST-MODIFIED:20200209T025938Z
UID:10000256-1609668000-1609671600@orange.lutheran.org.au
SUMMARY:Worship Service with Holy Communion
DESCRIPTION:
URL:https://orange.lutheran.org.au/event/worship-service-lay-reading/2021-01-03/
LOCATION:St Peters Lutheran Church – Orange\, 12 Heathbrae Parade\, Orange\, NSW\, 2800\, Australia
CATEGORIES:Worship
GEO:-33.2668758;149.1073598
X-APPLE-STRUCTURED-LOCATION;VALUE=URI;X-ADDRESS=St Peters Lutheran Church – Orange 12 Heathbrae Parade Orange NSW 2800 Australia;X-APPLE-RADIUS=500;X-TITLE=12 Heathbrae Parade:geo:149.1073598,-33.2668758
END:VEVENT
BEGIN:VEVENT
DTSTART;TZID=Australia/Sydney:20201227T100000
DTEND;TZID=Australia/Sydney:20201227T110000
DTSTAMP:20260424T030022
CREATED:20181217T052405Z
LAST-MODIFIED:20200209T025938Z
UID:10000255-1609063200-1609066800@orange.lutheran.org.au
SUMMARY:Worship Service with Holy Communion
DESCRIPTION:
URL:https://orange.lutheran.org.au/event/worship-service-lay-reading/2020-12-27/
LOCATION:St Peters Lutheran Church – Orange\, 12 Heathbrae Parade\, Orange\, NSW\, 2800\, Australia
CATEGORIES:Worship
GEO:-33.2668758;149.1073598
X-APPLE-STRUCTURED-LOCATION;VALUE=URI;X-ADDRESS=St Peters Lutheran Church – Orange 12 Heathbrae Parade Orange NSW 2800 Australia;X-APPLE-RADIUS=500;X-TITLE=12 Heathbrae Parade:geo:149.1073598,-33.2668758
END:VEVENT
BEGIN:VEVENT
DTSTART;TZID=Australia/Sydney:20201220T113000
DTEND;TZID=Australia/Sydney:20201220T123000
DTSTAMP:20260424T030022
CREATED:20181217T052530Z
LAST-MODIFIED:20181217T052715Z
UID:10000119-1608463800-1608467400@orange.lutheran.org.au
SUMMARY:Worship Service with Communion
DESCRIPTION:
URL:https://orange.lutheran.org.au/event/worship-service-with-communion/2020-12-20/
LOCATION:St Peters Lutheran Church – Orange\, 12 Heathbrae Parade\, Orange\, NSW\, 2800\, Australia
CATEGORIES:Worship
ATTACH;FMTTYPE=image/jpeg:https://orange.lutheran.org.au/wp-content/uploads/2018/12/communion-cup.jpg
GEO:-33.2668758;149.1073598
X-APPLE-STRUCTURED-LOCATION;VALUE=URI;X-ADDRESS=St Peters Lutheran Church – Orange 12 Heathbrae Parade Orange NSW 2800 Australia;X-APPLE-RADIUS=500;X-TITLE=12 Heathbrae Parade:geo:149.1073598,-33.2668758
END:VEVENT
BEGIN:VEVENT
DTSTART;TZID=Australia/Sydney:20201213T100000
DTEND;TZID=Australia/Sydney:20201213T110000
DTSTAMP:20260424T030022
CREATED:20181217T052405Z
LAST-MODIFIED:20201119T231634Z
UID:10000483-1607853600-1607857200@orange.lutheran.org.au
SUMMARY:Worship Service without Holy Communion
DESCRIPTION:
URL:https://orange.lutheran.org.au/event/worship-service-lay-reading-2020-12-13/
LOCATION:St Peters Lutheran Church – Orange\, 12 Heathbrae Parade\, Orange\, NSW\, 2800\, Australia
CATEGORIES:Worship
GEO:-33.2668758;149.1073598
X-APPLE-STRUCTURED-LOCATION;VALUE=URI;X-ADDRESS=St Peters Lutheran Church – Orange 12 Heathbrae Parade Orange NSW 2800 Australia;X-APPLE-RADIUS=500;X-TITLE=12 Heathbrae Parade:geo:149.1073598,-33.2668758
END:VEVENT
BEGIN:VEVENT
DTSTART;TZID=Australia/Sydney:20201206T100000
DTEND;TZID=Australia/Sydney:20201206T110000
DTSTAMP:20260424T030022
CREATED:20181217T052405Z
LAST-MODIFIED:20200209T025938Z
UID:10000254-1607248800-1607252400@orange.lutheran.org.au
SUMMARY:Worship Service with Holy Communion
DESCRIPTION:
URL:https://orange.lutheran.org.au/event/worship-service-lay-reading/2020-12-06/
LOCATION:St Peters Lutheran Church – Orange\, 12 Heathbrae Parade\, Orange\, NSW\, 2800\, Australia
CATEGORIES:Worship
GEO:-33.2668758;149.1073598
X-APPLE-STRUCTURED-LOCATION;VALUE=URI;X-ADDRESS=St Peters Lutheran Church – Orange 12 Heathbrae Parade Orange NSW 2800 Australia;X-APPLE-RADIUS=500;X-TITLE=12 Heathbrae Parade:geo:149.1073598,-33.2668758
END:VEVENT
BEGIN:VEVENT
DTSTART;TZID=Australia/Sydney:20201129T100000
DTEND;TZID=Australia/Sydney:20201129T110000
DTSTAMP:20260424T030022
CREATED:20181217T052405Z
LAST-MODIFIED:20200209T025938Z
UID:10000253-1606644000-1606647600@orange.lutheran.org.au
SUMMARY:Worship Service with Holy Communion
DESCRIPTION:
URL:https://orange.lutheran.org.au/event/worship-service-lay-reading/2020-11-29/
LOCATION:St Peters Lutheran Church – Orange\, 12 Heathbrae Parade\, Orange\, NSW\, 2800\, Australia
CATEGORIES:Worship
GEO:-33.2668758;149.1073598
X-APPLE-STRUCTURED-LOCATION;VALUE=URI;X-ADDRESS=St Peters Lutheran Church – Orange 12 Heathbrae Parade Orange NSW 2800 Australia;X-APPLE-RADIUS=500;X-TITLE=12 Heathbrae Parade:geo:149.1073598,-33.2668758
END:VEVENT
BEGIN:VEVENT
DTSTART;TZID=Australia/Sydney:20201122T100000
DTEND;TZID=Australia/Sydney:20201122T110000
DTSTAMP:20260424T030022
CREATED:20181217T052405Z
LAST-MODIFIED:20201119T231453Z
UID:10000484-1606039200-1606042800@orange.lutheran.org.au
SUMMARY:Worship Service without Holy Communion
DESCRIPTION:
URL:https://orange.lutheran.org.au/event/worship-service-lay-reading-2020-11-22/
LOCATION:St Peters Lutheran Church – Orange\, 12 Heathbrae Parade\, Orange\, NSW\, 2800\, Australia
CATEGORIES:Worship
GEO:-33.2668758;149.1073598
X-APPLE-STRUCTURED-LOCATION;VALUE=URI;X-ADDRESS=St Peters Lutheran Church – Orange 12 Heathbrae Parade Orange NSW 2800 Australia;X-APPLE-RADIUS=500;X-TITLE=12 Heathbrae Parade:geo:149.1073598,-33.2668758
END:VEVENT
BEGIN:VEVENT
DTSTART;TZID=Australia/Sydney:20201115T113000
DTEND;TZID=Australia/Sydney:20201115T123000
DTSTAMP:20260424T030022
CREATED:20181217T052530Z
LAST-MODIFIED:20181217T052715Z
UID:10000118-1605439800-1605443400@orange.lutheran.org.au
SUMMARY:Worship Service with Communion
DESCRIPTION:
URL:https://orange.lutheran.org.au/event/worship-service-with-communion/2020-11-15/
LOCATION:St Peters Lutheran Church – Orange\, 12 Heathbrae Parade\, Orange\, NSW\, 2800\, Australia
CATEGORIES:Worship
ATTACH;FMTTYPE=image/jpeg:https://orange.lutheran.org.au/wp-content/uploads/2018/12/communion-cup.jpg
GEO:-33.2668758;149.1073598
X-APPLE-STRUCTURED-LOCATION;VALUE=URI;X-ADDRESS=St Peters Lutheran Church – Orange 12 Heathbrae Parade Orange NSW 2800 Australia;X-APPLE-RADIUS=500;X-TITLE=12 Heathbrae Parade:geo:149.1073598,-33.2668758
END:VEVENT
BEGIN:VEVENT
DTSTART;TZID=Australia/Sydney:20201108T100000
DTEND;TZID=Australia/Sydney:20201108T110000
DTSTAMP:20260424T030022
CREATED:20181217T052405Z
LAST-MODIFIED:20200209T025938Z
UID:10000252-1604829600-1604833200@orange.lutheran.org.au
SUMMARY:Worship Service with Holy Communion
DESCRIPTION:
URL:https://orange.lutheran.org.au/event/worship-service-lay-reading/2020-11-08/
LOCATION:St Peters Lutheran Church – Orange\, 12 Heathbrae Parade\, Orange\, NSW\, 2800\, Australia
CATEGORIES:Worship
GEO:-33.2668758;149.1073598
X-APPLE-STRUCTURED-LOCATION;VALUE=URI;X-ADDRESS=St Peters Lutheran Church – Orange 12 Heathbrae Parade Orange NSW 2800 Australia;X-APPLE-RADIUS=500;X-TITLE=12 Heathbrae Parade:geo:149.1073598,-33.2668758
END:VEVENT
BEGIN:VEVENT
DTSTART;TZID=Australia/Sydney:20201101T100000
DTEND;TZID=Australia/Sydney:20201101T110000
DTSTAMP:20260424T030022
CREATED:20181217T052405Z
LAST-MODIFIED:20200209T025938Z
UID:10000251-1604224800-1604228400@orange.lutheran.org.au
SUMMARY:Worship Service with Holy Communion
DESCRIPTION:
URL:https://orange.lutheran.org.au/event/worship-service-lay-reading/2020-11-01/
LOCATION:St Peters Lutheran Church – Orange\, 12 Heathbrae Parade\, Orange\, NSW\, 2800\, Australia
CATEGORIES:Worship
GEO:-33.2668758;149.1073598
X-APPLE-STRUCTURED-LOCATION;VALUE=URI;X-ADDRESS=St Peters Lutheran Church – Orange 12 Heathbrae Parade Orange NSW 2800 Australia;X-APPLE-RADIUS=500;X-TITLE=12 Heathbrae Parade:geo:149.1073598,-33.2668758
END:VEVENT
BEGIN:VEVENT
DTSTART;TZID=Australia/Sydney:20201025T100000
DTEND;TZID=Australia/Sydney:20201025T110000
DTSTAMP:20260424T030022
CREATED:20181217T052405Z
LAST-MODIFIED:20200209T025938Z
UID:10000250-1603620000-1603623600@orange.lutheran.org.au
SUMMARY:Worship Service with Holy Communion
DESCRIPTION:
URL:https://orange.lutheran.org.au/event/worship-service-lay-reading/2020-10-25/
LOCATION:St Peters Lutheran Church – Orange\, 12 Heathbrae Parade\, Orange\, NSW\, 2800\, Australia
CATEGORIES:Worship
GEO:-33.2668758;149.1073598
X-APPLE-STRUCTURED-LOCATION;VALUE=URI;X-ADDRESS=St Peters Lutheran Church – Orange 12 Heathbrae Parade Orange NSW 2800 Australia;X-APPLE-RADIUS=500;X-TITLE=12 Heathbrae Parade:geo:149.1073598,-33.2668758
END:VEVENT
BEGIN:VEVENT
DTSTART;TZID=Australia/Sydney:20201018T113000
DTEND;TZID=Australia/Sydney:20201018T123000
DTSTAMP:20260424T030022
CREATED:20181217T052530Z
LAST-MODIFIED:20181217T052715Z
UID:10000117-1603020600-1603024200@orange.lutheran.org.au
SUMMARY:Worship Service with Communion
DESCRIPTION:
URL:https://orange.lutheran.org.au/event/worship-service-with-communion/2020-10-18/
LOCATION:St Peters Lutheran Church – Orange\, 12 Heathbrae Parade\, Orange\, NSW\, 2800\, Australia
CATEGORIES:Worship
ATTACH;FMTTYPE=image/jpeg:https://orange.lutheran.org.au/wp-content/uploads/2018/12/communion-cup.jpg
GEO:-33.2668758;149.1073598
X-APPLE-STRUCTURED-LOCATION;VALUE=URI;X-ADDRESS=St Peters Lutheran Church – Orange 12 Heathbrae Parade Orange NSW 2800 Australia;X-APPLE-RADIUS=500;X-TITLE=12 Heathbrae Parade:geo:149.1073598,-33.2668758
END:VEVENT
BEGIN:VEVENT
DTSTART;TZID=Australia/Sydney:20201011T100000
DTEND;TZID=Australia/Sydney:20201011T110000
DTSTAMP:20260424T030022
CREATED:20181217T052405Z
LAST-MODIFIED:20200209T025938Z
UID:10000249-1602410400-1602414000@orange.lutheran.org.au
SUMMARY:Worship Service with Holy Communion
DESCRIPTION:
URL:https://orange.lutheran.org.au/event/worship-service-lay-reading/2020-10-11/
LOCATION:St Peters Lutheran Church – Orange\, 12 Heathbrae Parade\, Orange\, NSW\, 2800\, Australia
CATEGORIES:Worship
GEO:-33.2668758;149.1073598
X-APPLE-STRUCTURED-LOCATION;VALUE=URI;X-ADDRESS=St Peters Lutheran Church – Orange 12 Heathbrae Parade Orange NSW 2800 Australia;X-APPLE-RADIUS=500;X-TITLE=12 Heathbrae Parade:geo:149.1073598,-33.2668758
END:VEVENT
BEGIN:VEVENT
DTSTART;TZID=Australia/Sydney:20201004T100000
DTEND;TZID=Australia/Sydney:20201004T110000
DTSTAMP:20260424T030022
CREATED:20181217T052405Z
LAST-MODIFIED:20200209T025938Z
UID:10000248-1601805600-1601809200@orange.lutheran.org.au
SUMMARY:Worship Service with Holy Communion
DESCRIPTION:
URL:https://orange.lutheran.org.au/event/worship-service-lay-reading/2020-10-04/
LOCATION:St Peters Lutheran Church – Orange\, 12 Heathbrae Parade\, Orange\, NSW\, 2800\, Australia
CATEGORIES:Worship
GEO:-33.2668758;149.1073598
X-APPLE-STRUCTURED-LOCATION;VALUE=URI;X-ADDRESS=St Peters Lutheran Church – Orange 12 Heathbrae Parade Orange NSW 2800 Australia;X-APPLE-RADIUS=500;X-TITLE=12 Heathbrae Parade:geo:149.1073598,-33.2668758
END:VEVENT
BEGIN:VEVENT
DTSTART;TZID=Australia/Sydney:20200927T100000
DTEND;TZID=Australia/Sydney:20200927T110000
DTSTAMP:20260424T030022
CREATED:20181217T052405Z
LAST-MODIFIED:20200209T025938Z
UID:10000247-1601200800-1601204400@orange.lutheran.org.au
SUMMARY:Worship Service with Holy Communion
DESCRIPTION:
URL:https://orange.lutheran.org.au/event/worship-service-lay-reading/2020-09-27/
LOCATION:St Peters Lutheran Church – Orange\, 12 Heathbrae Parade\, Orange\, NSW\, 2800\, Australia
CATEGORIES:Worship
GEO:-33.2668758;149.1073598
X-APPLE-STRUCTURED-LOCATION;VALUE=URI;X-ADDRESS=St Peters Lutheran Church – Orange 12 Heathbrae Parade Orange NSW 2800 Australia;X-APPLE-RADIUS=500;X-TITLE=12 Heathbrae Parade:geo:149.1073598,-33.2668758
END:VEVENT
BEGIN:VEVENT
DTSTART;TZID=Australia/Sydney:20200920T113000
DTEND;TZID=Australia/Sydney:20200920T123000
DTSTAMP:20260424T030022
CREATED:20181217T052530Z
LAST-MODIFIED:20181217T052715Z
UID:10000116-1600601400-1600605000@orange.lutheran.org.au
SUMMARY:Worship Service with Communion
DESCRIPTION:
URL:https://orange.lutheran.org.au/event/worship-service-with-communion/2020-09-20/
LOCATION:St Peters Lutheran Church – Orange\, 12 Heathbrae Parade\, Orange\, NSW\, 2800\, Australia
CATEGORIES:Worship
ATTACH;FMTTYPE=image/jpeg:https://orange.lutheran.org.au/wp-content/uploads/2018/12/communion-cup.jpg
GEO:-33.2668758;149.1073598
X-APPLE-STRUCTURED-LOCATION;VALUE=URI;X-ADDRESS=St Peters Lutheran Church – Orange 12 Heathbrae Parade Orange NSW 2800 Australia;X-APPLE-RADIUS=500;X-TITLE=12 Heathbrae Parade:geo:149.1073598,-33.2668758
END:VEVENT
BEGIN:VEVENT
DTSTART;TZID=Australia/Sydney:20200913T100000
DTEND;TZID=Australia/Sydney:20200913T110000
DTSTAMP:20260424T030022
CREATED:20181217T052405Z
LAST-MODIFIED:20200209T025938Z
UID:10000246-1599991200-1599994800@orange.lutheran.org.au
SUMMARY:Worship Service with Holy Communion
DESCRIPTION:
URL:https://orange.lutheran.org.au/event/worship-service-lay-reading/2020-09-13/
LOCATION:St Peters Lutheran Church – Orange\, 12 Heathbrae Parade\, Orange\, NSW\, 2800\, Australia
CATEGORIES:Worship
GEO:-33.2668758;149.1073598
X-APPLE-STRUCTURED-LOCATION;VALUE=URI;X-ADDRESS=St Peters Lutheran Church – Orange 12 Heathbrae Parade Orange NSW 2800 Australia;X-APPLE-RADIUS=500;X-TITLE=12 Heathbrae Parade:geo:149.1073598,-33.2668758
END:VEVENT
BEGIN:VEVENT
DTSTART;TZID=Australia/Sydney:20200906T100000
DTEND;TZID=Australia/Sydney:20200906T110000
DTSTAMP:20260424T030022
CREATED:20181217T052405Z
LAST-MODIFIED:20200209T025938Z
UID:10000245-1599386400-1599390000@orange.lutheran.org.au
SUMMARY:Worship Service with Holy Communion
DESCRIPTION:
URL:https://orange.lutheran.org.au/event/worship-service-lay-reading/2020-09-06/
LOCATION:St Peters Lutheran Church – Orange\, 12 Heathbrae Parade\, Orange\, NSW\, 2800\, Australia
CATEGORIES:Worship
GEO:-33.2668758;149.1073598
X-APPLE-STRUCTURED-LOCATION;VALUE=URI;X-ADDRESS=St Peters Lutheran Church – Orange 12 Heathbrae Parade Orange NSW 2800 Australia;X-APPLE-RADIUS=500;X-TITLE=12 Heathbrae Parade:geo:149.1073598,-33.2668758
END:VEVENT
BEGIN:VEVENT
DTSTART;TZID=Australia/Sydney:20200830T100000
DTEND;TZID=Australia/Sydney:20200830T110000
DTSTAMP:20260424T030022
CREATED:20181217T052405Z
LAST-MODIFIED:20200209T025938Z
UID:10000244-1598781600-1598785200@orange.lutheran.org.au
SUMMARY:Worship Service with Holy Communion
DESCRIPTION:
URL:https://orange.lutheran.org.au/event/worship-service-lay-reading/2020-08-30/
LOCATION:St Peters Lutheran Church – Orange\, 12 Heathbrae Parade\, Orange\, NSW\, 2800\, Australia
CATEGORIES:Worship
GEO:-33.2668758;149.1073598
X-APPLE-STRUCTURED-LOCATION;VALUE=URI;X-ADDRESS=St Peters Lutheran Church – Orange 12 Heathbrae Parade Orange NSW 2800 Australia;X-APPLE-RADIUS=500;X-TITLE=12 Heathbrae Parade:geo:149.1073598,-33.2668758
END:VEVENT
BEGIN:VEVENT
DTSTART;TZID=Australia/Sydney:20200823T100000
DTEND;TZID=Australia/Sydney:20200823T110000
DTSTAMP:20260424T030022
CREATED:20181217T052405Z
LAST-MODIFIED:20200209T025938Z
UID:10000243-1598176800-1598180400@orange.lutheran.org.au
SUMMARY:Worship Service with Holy Communion
DESCRIPTION:
URL:https://orange.lutheran.org.au/event/worship-service-lay-reading/2020-08-23/
LOCATION:St Peters Lutheran Church – Orange\, 12 Heathbrae Parade\, Orange\, NSW\, 2800\, Australia
CATEGORIES:Worship
GEO:-33.2668758;149.1073598
X-APPLE-STRUCTURED-LOCATION;VALUE=URI;X-ADDRESS=St Peters Lutheran Church – Orange 12 Heathbrae Parade Orange NSW 2800 Australia;X-APPLE-RADIUS=500;X-TITLE=12 Heathbrae Parade:geo:149.1073598,-33.2668758
END:VEVENT
BEGIN:VEVENT
DTSTART;TZID=Australia/Sydney:20200816T113000
DTEND;TZID=Australia/Sydney:20200816T123000
DTSTAMP:20260424T030022
CREATED:20181217T052530Z
LAST-MODIFIED:20181217T052715Z
UID:10000115-1597577400-1597581000@orange.lutheran.org.au
SUMMARY:Worship Service with Communion
DESCRIPTION:
URL:https://orange.lutheran.org.au/event/worship-service-with-communion/2020-08-16/
LOCATION:St Peters Lutheran Church – Orange\, 12 Heathbrae Parade\, Orange\, NSW\, 2800\, Australia
CATEGORIES:Worship
ATTACH;FMTTYPE=image/jpeg:https://orange.lutheran.org.au/wp-content/uploads/2018/12/communion-cup.jpg
GEO:-33.2668758;149.1073598
X-APPLE-STRUCTURED-LOCATION;VALUE=URI;X-ADDRESS=St Peters Lutheran Church – Orange 12 Heathbrae Parade Orange NSW 2800 Australia;X-APPLE-RADIUS=500;X-TITLE=12 Heathbrae Parade:geo:149.1073598,-33.2668758
END:VEVENT
BEGIN:VEVENT
DTSTART;TZID=Australia/Sydney:20200809T100000
DTEND;TZID=Australia/Sydney:20200809T110000
DTSTAMP:20260424T030022
CREATED:20181217T052405Z
LAST-MODIFIED:20200209T025938Z
UID:10000242-1596967200-1596970800@orange.lutheran.org.au
SUMMARY:Worship Service with Holy Communion
DESCRIPTION:
URL:https://orange.lutheran.org.au/event/worship-service-lay-reading/2020-08-09/
LOCATION:St Peters Lutheran Church – Orange\, 12 Heathbrae Parade\, Orange\, NSW\, 2800\, Australia
CATEGORIES:Worship
GEO:-33.2668758;149.1073598
X-APPLE-STRUCTURED-LOCATION;VALUE=URI;X-ADDRESS=St Peters Lutheran Church – Orange 12 Heathbrae Parade Orange NSW 2800 Australia;X-APPLE-RADIUS=500;X-TITLE=12 Heathbrae Parade:geo:149.1073598,-33.2668758
END:VEVENT
BEGIN:VEVENT
DTSTART;TZID=Australia/Sydney:20200802T100000
DTEND;TZID=Australia/Sydney:20200802T110000
DTSTAMP:20260424T030022
CREATED:20181217T052405Z
LAST-MODIFIED:20200209T025938Z
UID:10000241-1596362400-1596366000@orange.lutheran.org.au
SUMMARY:Worship Service with Holy Communion
DESCRIPTION:
URL:https://orange.lutheran.org.au/event/worship-service-lay-reading/2020-08-02/
LOCATION:St Peters Lutheran Church – Orange\, 12 Heathbrae Parade\, Orange\, NSW\, 2800\, Australia
CATEGORIES:Worship
GEO:-33.2668758;149.1073598
X-APPLE-STRUCTURED-LOCATION;VALUE=URI;X-ADDRESS=St Peters Lutheran Church – Orange 12 Heathbrae Parade Orange NSW 2800 Australia;X-APPLE-RADIUS=500;X-TITLE=12 Heathbrae Parade:geo:149.1073598,-33.2668758
END:VEVENT
BEGIN:VEVENT
DTSTART;TZID=Australia/Sydney:20200726T100000
DTEND;TZID=Australia/Sydney:20200726T110000
DTSTAMP:20260424T030022
CREATED:20181217T052405Z
LAST-MODIFIED:20200209T025938Z
UID:10000240-1595757600-1595761200@orange.lutheran.org.au
SUMMARY:Worship Service with Holy Communion
DESCRIPTION:
URL:https://orange.lutheran.org.au/event/worship-service-lay-reading/2020-07-26/
LOCATION:St Peters Lutheran Church – Orange\, 12 Heathbrae Parade\, Orange\, NSW\, 2800\, Australia
CATEGORIES:Worship
GEO:-33.2668758;149.1073598
X-APPLE-STRUCTURED-LOCATION;VALUE=URI;X-ADDRESS=St Peters Lutheran Church – Orange 12 Heathbrae Parade Orange NSW 2800 Australia;X-APPLE-RADIUS=500;X-TITLE=12 Heathbrae Parade:geo:149.1073598,-33.2668758
END:VEVENT
BEGIN:VEVENT
DTSTART;TZID=Australia/Sydney:20200719T113000
DTEND;TZID=Australia/Sydney:20200719T123000
DTSTAMP:20260424T030022
CREATED:20181217T052530Z
LAST-MODIFIED:20181217T052715Z
UID:10000114-1595158200-1595161800@orange.lutheran.org.au
SUMMARY:Worship Service with Communion
DESCRIPTION:
URL:https://orange.lutheran.org.au/event/worship-service-with-communion/2020-07-19/
LOCATION:St Peters Lutheran Church – Orange\, 12 Heathbrae Parade\, Orange\, NSW\, 2800\, Australia
CATEGORIES:Worship
ATTACH;FMTTYPE=image/jpeg:https://orange.lutheran.org.au/wp-content/uploads/2018/12/communion-cup.jpg
GEO:-33.2668758;149.1073598
X-APPLE-STRUCTURED-LOCATION;VALUE=URI;X-ADDRESS=St Peters Lutheran Church – Orange 12 Heathbrae Parade Orange NSW 2800 Australia;X-APPLE-RADIUS=500;X-TITLE=12 Heathbrae Parade:geo:149.1073598,-33.2668758
END:VEVENT
BEGIN:VEVENT
DTSTART;TZID=Australia/Sydney:20200712T100000
DTEND;TZID=Australia/Sydney:20200712T110000
DTSTAMP:20260424T030022
CREATED:20181217T052405Z
LAST-MODIFIED:20200209T025938Z
UID:10000239-1594548000-1594551600@orange.lutheran.org.au
SUMMARY:Worship Service with Holy Communion
DESCRIPTION:
URL:https://orange.lutheran.org.au/event/worship-service-lay-reading/2020-07-12/
LOCATION:St Peters Lutheran Church – Orange\, 12 Heathbrae Parade\, Orange\, NSW\, 2800\, Australia
CATEGORIES:Worship
GEO:-33.2668758;149.1073598
X-APPLE-STRUCTURED-LOCATION;VALUE=URI;X-ADDRESS=St Peters Lutheran Church – Orange 12 Heathbrae Parade Orange NSW 2800 Australia;X-APPLE-RADIUS=500;X-TITLE=12 Heathbrae Parade:geo:149.1073598,-33.2668758
END:VEVENT
BEGIN:VEVENT
DTSTART;TZID=Australia/Sydney:20200705T100000
DTEND;TZID=Australia/Sydney:20200705T110000
DTSTAMP:20260424T030022
CREATED:20181217T052405Z
LAST-MODIFIED:20200209T025938Z
UID:10000238-1593943200-1593946800@orange.lutheran.org.au
SUMMARY:Worship Service with Holy Communion
DESCRIPTION:
URL:https://orange.lutheran.org.au/event/worship-service-lay-reading/2020-07-05/
LOCATION:St Peters Lutheran Church – Orange\, 12 Heathbrae Parade\, Orange\, NSW\, 2800\, Australia
CATEGORIES:Worship
GEO:-33.2668758;149.1073598
X-APPLE-STRUCTURED-LOCATION;VALUE=URI;X-ADDRESS=St Peters Lutheran Church – Orange 12 Heathbrae Parade Orange NSW 2800 Australia;X-APPLE-RADIUS=500;X-TITLE=12 Heathbrae Parade:geo:149.1073598,-33.2668758
END:VEVENT
END:VCALENDAR