BEGIN:VCALENDAR
VERSION:2.0
PRODID:-//St Peters Lutheran Congregation, Orange NSW - ECPv6.15.14//NONSGML v1.0//EN
CALSCALE:GREGORIAN
METHOD:PUBLISH
X-WR-CALNAME:St Peters Lutheran Congregation, Orange NSW
X-ORIGINAL-URL:https://orange.lutheran.org.au
X-WR-CALDESC:Events for St Peters Lutheran Congregation, Orange NSW
REFRESH-INTERVAL;VALUE=DURATION:PT1H
X-Robots-Tag:noindex
X-PUBLISHED-TTL:PT1H
BEGIN:VTIMEZONE
TZID:Australia/Sydney
BEGIN:STANDARD
TZOFFSETFROM:+1100
TZOFFSETTO:+1000
TZNAME:AEST
DTSTART:20200404T160000
END:STANDARD
BEGIN:DAYLIGHT
TZOFFSETFROM:+1000
TZOFFSETTO:+1100
TZNAME:AEDT
DTSTART:20201003T160000
END:DAYLIGHT
BEGIN:STANDARD
TZOFFSETFROM:+1100
TZOFFSETTO:+1000
TZNAME:AEST
DTSTART:20210403T160000
END:STANDARD
BEGIN:DAYLIGHT
TZOFFSETFROM:+1000
TZOFFSETTO:+1100
TZNAME:AEDT
DTSTART:20211002T160000
END:DAYLIGHT
BEGIN:STANDARD
TZOFFSETFROM:+1100
TZOFFSETTO:+1000
TZNAME:AEST
DTSTART:20220402T160000
END:STANDARD
BEGIN:DAYLIGHT
TZOFFSETFROM:+1000
TZOFFSETTO:+1100
TZNAME:AEDT
DTSTART:20221001T160000
END:DAYLIGHT
END:VTIMEZONE
BEGIN:VEVENT
DTSTART;TZID=Australia/Sydney:20210801T100000
DTEND;TZID=Australia/Sydney:20210801T110000
DTSTAMP:20260423T190850
CREATED:20181217T052405Z
LAST-MODIFIED:20200209T025938Z
UID:10000279-1627812000-1627815600@orange.lutheran.org.au
SUMMARY:Worship Service with Holy Communion
DESCRIPTION:
URL:https://orange.lutheran.org.au/event/worship-service-lay-reading/2021-08-01/
LOCATION:St Peters Lutheran Church – Orange\, 12 Heathbrae Parade\, Orange\, NSW\, 2800\, Australia
CATEGORIES:Worship
GEO:-33.2668758;149.1073598
X-APPLE-STRUCTURED-LOCATION;VALUE=URI;X-ADDRESS=St Peters Lutheran Church – Orange 12 Heathbrae Parade Orange NSW 2800 Australia;X-APPLE-RADIUS=500;X-TITLE=12 Heathbrae Parade:geo:149.1073598,-33.2668758
END:VEVENT
BEGIN:VEVENT
DTSTART;TZID=Australia/Sydney:20210725T100000
DTEND;TZID=Australia/Sydney:20210725T110000
DTSTAMP:20260423T190850
CREATED:20210428T031916Z
LAST-MODIFIED:20210428T031916Z
UID:10000019-1627207200-1627210800@orange.lutheran.org.au
SUMMARY:Worship Service with Holy Commuion
DESCRIPTION:Fellowship and cuppa after the service (adhering to the Covid-19 safety plan)
URL:https://orange.lutheran.org.au/event/worship-service-with-holy-commuion/2021-07-25/
LOCATION:St Peters Lutheran Church – Orange\, 12 Heathbrae Parade\, Orange\, NSW\, 2800\, Australia
GEO:-33.2668758;149.1073598
X-APPLE-STRUCTURED-LOCATION;VALUE=URI;X-ADDRESS=St Peters Lutheran Church – Orange 12 Heathbrae Parade Orange NSW 2800 Australia;X-APPLE-RADIUS=500;X-TITLE=12 Heathbrae Parade:geo:149.1073598,-33.2668758
END:VEVENT
BEGIN:VEVENT
DTSTART;TZID=Australia/Sydney:20210725T100000
DTEND;TZID=Australia/Sydney:20210725T110000
DTSTAMP:20260423T190850
CREATED:20181217T052405Z
LAST-MODIFIED:20200209T025938Z
UID:10000278-1627207200-1627210800@orange.lutheran.org.au
SUMMARY:Worship Service with Holy Communion
DESCRIPTION:
URL:https://orange.lutheran.org.au/event/worship-service-lay-reading/2021-07-25/
LOCATION:St Peters Lutheran Church – Orange\, 12 Heathbrae Parade\, Orange\, NSW\, 2800\, Australia
CATEGORIES:Worship
GEO:-33.2668758;149.1073598
X-APPLE-STRUCTURED-LOCATION;VALUE=URI;X-ADDRESS=St Peters Lutheran Church – Orange 12 Heathbrae Parade Orange NSW 2800 Australia;X-APPLE-RADIUS=500;X-TITLE=12 Heathbrae Parade:geo:149.1073598,-33.2668758
END:VEVENT
BEGIN:VEVENT
DTSTART;TZID=Australia/Sydney:20210718T113000
DTEND;TZID=Australia/Sydney:20210718T123000
DTSTAMP:20260423T190850
CREATED:20181217T052530Z
LAST-MODIFIED:20181217T052715Z
UID:10000126-1626607800-1626611400@orange.lutheran.org.au
SUMMARY:Worship Service with Communion
DESCRIPTION:
URL:https://orange.lutheran.org.au/event/worship-service-with-communion/2021-07-18/
LOCATION:St Peters Lutheran Church – Orange\, 12 Heathbrae Parade\, Orange\, NSW\, 2800\, Australia
CATEGORIES:Worship
ATTACH;FMTTYPE=image/jpeg:https://orange.lutheran.org.au/wp-content/uploads/2018/12/communion-cup.jpg
GEO:-33.2668758;149.1073598
X-APPLE-STRUCTURED-LOCATION;VALUE=URI;X-ADDRESS=St Peters Lutheran Church – Orange 12 Heathbrae Parade Orange NSW 2800 Australia;X-APPLE-RADIUS=500;X-TITLE=12 Heathbrae Parade:geo:149.1073598,-33.2668758
END:VEVENT
BEGIN:VEVENT
DTSTART;TZID=Australia/Sydney:20210718T100000
DTEND;TZID=Australia/Sydney:20210718T110000
DTSTAMP:20260423T190850
CREATED:20210428T031916Z
LAST-MODIFIED:20210428T031916Z
UID:10000018-1626602400-1626606000@orange.lutheran.org.au
SUMMARY:Worship Service with Holy Commuion
DESCRIPTION:Fellowship and cuppa after the service (adhering to the Covid-19 safety plan)
URL:https://orange.lutheran.org.au/event/worship-service-with-holy-commuion/2021-07-18/
LOCATION:St Peters Lutheran Church – Orange\, 12 Heathbrae Parade\, Orange\, NSW\, 2800\, Australia
GEO:-33.2668758;149.1073598
X-APPLE-STRUCTURED-LOCATION;VALUE=URI;X-ADDRESS=St Peters Lutheran Church – Orange 12 Heathbrae Parade Orange NSW 2800 Australia;X-APPLE-RADIUS=500;X-TITLE=12 Heathbrae Parade:geo:149.1073598,-33.2668758
END:VEVENT
BEGIN:VEVENT
DTSTART;TZID=Australia/Sydney:20210711T100000
DTEND;TZID=Australia/Sydney:20210711T110000
DTSTAMP:20260423T190850
CREATED:20210428T031916Z
LAST-MODIFIED:20210428T031916Z
UID:10000017-1625997600-1626001200@orange.lutheran.org.au
SUMMARY:Worship Service with Holy Commuion
DESCRIPTION:Fellowship and cuppa after the service (adhering to the Covid-19 safety plan)
URL:https://orange.lutheran.org.au/event/worship-service-with-holy-commuion/2021-07-11/
LOCATION:St Peters Lutheran Church – Orange\, 12 Heathbrae Parade\, Orange\, NSW\, 2800\, Australia
GEO:-33.2668758;149.1073598
X-APPLE-STRUCTURED-LOCATION;VALUE=URI;X-ADDRESS=St Peters Lutheran Church – Orange 12 Heathbrae Parade Orange NSW 2800 Australia;X-APPLE-RADIUS=500;X-TITLE=12 Heathbrae Parade:geo:149.1073598,-33.2668758
END:VEVENT
BEGIN:VEVENT
DTSTART;TZID=Australia/Sydney:20210711T100000
DTEND;TZID=Australia/Sydney:20210711T110000
DTSTAMP:20260423T190850
CREATED:20181217T052405Z
LAST-MODIFIED:20200209T025938Z
UID:10000277-1625997600-1626001200@orange.lutheran.org.au
SUMMARY:Worship Service with Holy Communion
DESCRIPTION:
URL:https://orange.lutheran.org.au/event/worship-service-lay-reading/2021-07-11/
LOCATION:St Peters Lutheran Church – Orange\, 12 Heathbrae Parade\, Orange\, NSW\, 2800\, Australia
CATEGORIES:Worship
GEO:-33.2668758;149.1073598
X-APPLE-STRUCTURED-LOCATION;VALUE=URI;X-ADDRESS=St Peters Lutheran Church – Orange 12 Heathbrae Parade Orange NSW 2800 Australia;X-APPLE-RADIUS=500;X-TITLE=12 Heathbrae Parade:geo:149.1073598,-33.2668758
END:VEVENT
BEGIN:VEVENT
DTSTART;TZID=Australia/Sydney:20210704T100000
DTEND;TZID=Australia/Sydney:20210704T110000
DTSTAMP:20260423T190850
CREATED:20210428T031916Z
LAST-MODIFIED:20210428T031916Z
UID:10000016-1625392800-1625396400@orange.lutheran.org.au
SUMMARY:Worship Service with Holy Commuion
DESCRIPTION:Fellowship and cuppa after the service (adhering to the Covid-19 safety plan)
URL:https://orange.lutheran.org.au/event/worship-service-with-holy-commuion/2021-07-04/
LOCATION:St Peters Lutheran Church – Orange\, 12 Heathbrae Parade\, Orange\, NSW\, 2800\, Australia
GEO:-33.2668758;149.1073598
X-APPLE-STRUCTURED-LOCATION;VALUE=URI;X-ADDRESS=St Peters Lutheran Church – Orange 12 Heathbrae Parade Orange NSW 2800 Australia;X-APPLE-RADIUS=500;X-TITLE=12 Heathbrae Parade:geo:149.1073598,-33.2668758
END:VEVENT
BEGIN:VEVENT
DTSTART;TZID=Australia/Sydney:20210704T100000
DTEND;TZID=Australia/Sydney:20210704T110000
DTSTAMP:20260423T190850
CREATED:20181217T052405Z
LAST-MODIFIED:20200209T025938Z
UID:10000276-1625392800-1625396400@orange.lutheran.org.au
SUMMARY:Worship Service with Holy Communion
DESCRIPTION:
URL:https://orange.lutheran.org.au/event/worship-service-lay-reading/2021-07-04/
LOCATION:St Peters Lutheran Church – Orange\, 12 Heathbrae Parade\, Orange\, NSW\, 2800\, Australia
CATEGORIES:Worship
GEO:-33.2668758;149.1073598
X-APPLE-STRUCTURED-LOCATION;VALUE=URI;X-ADDRESS=St Peters Lutheran Church – Orange 12 Heathbrae Parade Orange NSW 2800 Australia;X-APPLE-RADIUS=500;X-TITLE=12 Heathbrae Parade:geo:149.1073598,-33.2668758
END:VEVENT
BEGIN:VEVENT
DTSTART;TZID=Australia/Sydney:20210627T100000
DTEND;TZID=Australia/Sydney:20210627T110000
DTSTAMP:20260423T190850
CREATED:20210428T031916Z
LAST-MODIFIED:20210428T031916Z
UID:10000015-1624788000-1624791600@orange.lutheran.org.au
SUMMARY:Worship Service with Holy Commuion
DESCRIPTION:Fellowship and cuppa after the service (adhering to the Covid-19 safety plan)
URL:https://orange.lutheran.org.au/event/worship-service-with-holy-commuion/2021-06-27/
LOCATION:St Peters Lutheran Church – Orange\, 12 Heathbrae Parade\, Orange\, NSW\, 2800\, Australia
GEO:-33.2668758;149.1073598
X-APPLE-STRUCTURED-LOCATION;VALUE=URI;X-ADDRESS=St Peters Lutheran Church – Orange 12 Heathbrae Parade Orange NSW 2800 Australia;X-APPLE-RADIUS=500;X-TITLE=12 Heathbrae Parade:geo:149.1073598,-33.2668758
END:VEVENT
BEGIN:VEVENT
DTSTART;TZID=Australia/Sydney:20210627T100000
DTEND;TZID=Australia/Sydney:20210627T110000
DTSTAMP:20260423T190850
CREATED:20181217T052405Z
LAST-MODIFIED:20200209T025938Z
UID:10000275-1624788000-1624791600@orange.lutheran.org.au
SUMMARY:Worship Service with Holy Communion
DESCRIPTION:
URL:https://orange.lutheran.org.au/event/worship-service-lay-reading/2021-06-27/
LOCATION:St Peters Lutheran Church – Orange\, 12 Heathbrae Parade\, Orange\, NSW\, 2800\, Australia
CATEGORIES:Worship
GEO:-33.2668758;149.1073598
X-APPLE-STRUCTURED-LOCATION;VALUE=URI;X-ADDRESS=St Peters Lutheran Church – Orange 12 Heathbrae Parade Orange NSW 2800 Australia;X-APPLE-RADIUS=500;X-TITLE=12 Heathbrae Parade:geo:149.1073598,-33.2668758
END:VEVENT
BEGIN:VEVENT
DTSTART;TZID=Australia/Sydney:20210620T113000
DTEND;TZID=Australia/Sydney:20210620T123000
DTSTAMP:20260423T190850
CREATED:20181217T052530Z
LAST-MODIFIED:20181217T052715Z
UID:10000125-1624188600-1624192200@orange.lutheran.org.au
SUMMARY:Worship Service with Communion
DESCRIPTION:
URL:https://orange.lutheran.org.au/event/worship-service-with-communion/2021-06-20/
LOCATION:St Peters Lutheran Church – Orange\, 12 Heathbrae Parade\, Orange\, NSW\, 2800\, Australia
CATEGORIES:Worship
ATTACH;FMTTYPE=image/jpeg:https://orange.lutheran.org.au/wp-content/uploads/2018/12/communion-cup.jpg
GEO:-33.2668758;149.1073598
X-APPLE-STRUCTURED-LOCATION;VALUE=URI;X-ADDRESS=St Peters Lutheran Church – Orange 12 Heathbrae Parade Orange NSW 2800 Australia;X-APPLE-RADIUS=500;X-TITLE=12 Heathbrae Parade:geo:149.1073598,-33.2668758
END:VEVENT
BEGIN:VEVENT
DTSTART;TZID=Australia/Sydney:20210620T100000
DTEND;TZID=Australia/Sydney:20210620T110000
DTSTAMP:20260423T190850
CREATED:20210428T031916Z
LAST-MODIFIED:20210428T031916Z
UID:10000014-1624183200-1624186800@orange.lutheran.org.au
SUMMARY:Worship Service with Holy Commuion
DESCRIPTION:Fellowship and cuppa after the service (adhering to the Covid-19 safety plan)
URL:https://orange.lutheran.org.au/event/worship-service-with-holy-commuion/2021-06-20/
LOCATION:St Peters Lutheran Church – Orange\, 12 Heathbrae Parade\, Orange\, NSW\, 2800\, Australia
GEO:-33.2668758;149.1073598
X-APPLE-STRUCTURED-LOCATION;VALUE=URI;X-ADDRESS=St Peters Lutheran Church – Orange 12 Heathbrae Parade Orange NSW 2800 Australia;X-APPLE-RADIUS=500;X-TITLE=12 Heathbrae Parade:geo:149.1073598,-33.2668758
END:VEVENT
BEGIN:VEVENT
DTSTART;TZID=Australia/Sydney:20210613T100000
DTEND;TZID=Australia/Sydney:20210613T110000
DTSTAMP:20260423T190850
CREATED:20210428T031916Z
LAST-MODIFIED:20210428T031916Z
UID:10000013-1623578400-1623582000@orange.lutheran.org.au
SUMMARY:Worship Service with Holy Commuion
DESCRIPTION:Fellowship and cuppa after the service (adhering to the Covid-19 safety plan)
URL:https://orange.lutheran.org.au/event/worship-service-with-holy-commuion/2021-06-13/
LOCATION:St Peters Lutheran Church – Orange\, 12 Heathbrae Parade\, Orange\, NSW\, 2800\, Australia
GEO:-33.2668758;149.1073598
X-APPLE-STRUCTURED-LOCATION;VALUE=URI;X-ADDRESS=St Peters Lutheran Church – Orange 12 Heathbrae Parade Orange NSW 2800 Australia;X-APPLE-RADIUS=500;X-TITLE=12 Heathbrae Parade:geo:149.1073598,-33.2668758
END:VEVENT
BEGIN:VEVENT
DTSTART;TZID=Australia/Sydney:20210613T100000
DTEND;TZID=Australia/Sydney:20210613T110000
DTSTAMP:20260423T190850
CREATED:20181217T052405Z
LAST-MODIFIED:20200209T025938Z
UID:10000274-1623578400-1623582000@orange.lutheran.org.au
SUMMARY:Worship Service with Holy Communion
DESCRIPTION:
URL:https://orange.lutheran.org.au/event/worship-service-lay-reading/2021-06-13/
LOCATION:St Peters Lutheran Church – Orange\, 12 Heathbrae Parade\, Orange\, NSW\, 2800\, Australia
CATEGORIES:Worship
GEO:-33.2668758;149.1073598
X-APPLE-STRUCTURED-LOCATION;VALUE=URI;X-ADDRESS=St Peters Lutheran Church – Orange 12 Heathbrae Parade Orange NSW 2800 Australia;X-APPLE-RADIUS=500;X-TITLE=12 Heathbrae Parade:geo:149.1073598,-33.2668758
END:VEVENT
BEGIN:VEVENT
DTSTART;TZID=Australia/Sydney:20210606T100000
DTEND;TZID=Australia/Sydney:20210606T110000
DTSTAMP:20260423T190850
CREATED:20210428T031916Z
LAST-MODIFIED:20210428T031916Z
UID:10000012-1622973600-1622977200@orange.lutheran.org.au
SUMMARY:Worship Service with Holy Commuion
DESCRIPTION:Fellowship and cuppa after the service (adhering to the Covid-19 safety plan)
URL:https://orange.lutheran.org.au/event/worship-service-with-holy-commuion/2021-06-06/
LOCATION:St Peters Lutheran Church – Orange\, 12 Heathbrae Parade\, Orange\, NSW\, 2800\, Australia
GEO:-33.2668758;149.1073598
X-APPLE-STRUCTURED-LOCATION;VALUE=URI;X-ADDRESS=St Peters Lutheran Church – Orange 12 Heathbrae Parade Orange NSW 2800 Australia;X-APPLE-RADIUS=500;X-TITLE=12 Heathbrae Parade:geo:149.1073598,-33.2668758
END:VEVENT
BEGIN:VEVENT
DTSTART;TZID=Australia/Sydney:20210606T100000
DTEND;TZID=Australia/Sydney:20210606T110000
DTSTAMP:20260423T190850
CREATED:20181217T052405Z
LAST-MODIFIED:20200209T025938Z
UID:10000273-1622973600-1622977200@orange.lutheran.org.au
SUMMARY:Worship Service with Holy Communion
DESCRIPTION:
URL:https://orange.lutheran.org.au/event/worship-service-lay-reading/2021-06-06/
LOCATION:St Peters Lutheran Church – Orange\, 12 Heathbrae Parade\, Orange\, NSW\, 2800\, Australia
CATEGORIES:Worship
GEO:-33.2668758;149.1073598
X-APPLE-STRUCTURED-LOCATION;VALUE=URI;X-ADDRESS=St Peters Lutheran Church – Orange 12 Heathbrae Parade Orange NSW 2800 Australia;X-APPLE-RADIUS=500;X-TITLE=12 Heathbrae Parade:geo:149.1073598,-33.2668758
END:VEVENT
BEGIN:VEVENT
DTSTART;TZID=Australia/Sydney:20210530T100000
DTEND;TZID=Australia/Sydney:20210530T110000
DTSTAMP:20260423T190850
CREATED:20210428T031916Z
LAST-MODIFIED:20210428T031916Z
UID:10000011-1622368800-1622372400@orange.lutheran.org.au
SUMMARY:Worship Service with Holy Commuion
DESCRIPTION:Fellowship and cuppa after the service (adhering to the Covid-19 safety plan)
URL:https://orange.lutheran.org.au/event/worship-service-with-holy-commuion/2021-05-30/
LOCATION:St Peters Lutheran Church – Orange\, 12 Heathbrae Parade\, Orange\, NSW\, 2800\, Australia
GEO:-33.2668758;149.1073598
X-APPLE-STRUCTURED-LOCATION;VALUE=URI;X-ADDRESS=St Peters Lutheran Church – Orange 12 Heathbrae Parade Orange NSW 2800 Australia;X-APPLE-RADIUS=500;X-TITLE=12 Heathbrae Parade:geo:149.1073598,-33.2668758
END:VEVENT
BEGIN:VEVENT
DTSTART;TZID=Australia/Sydney:20210530T100000
DTEND;TZID=Australia/Sydney:20210530T110000
DTSTAMP:20260423T190850
CREATED:20181217T052405Z
LAST-MODIFIED:20200209T025938Z
UID:10000272-1622368800-1622372400@orange.lutheran.org.au
SUMMARY:Worship Service with Holy Communion
DESCRIPTION:
URL:https://orange.lutheran.org.au/event/worship-service-lay-reading/2021-05-30/
LOCATION:St Peters Lutheran Church – Orange\, 12 Heathbrae Parade\, Orange\, NSW\, 2800\, Australia
CATEGORIES:Worship
GEO:-33.2668758;149.1073598
X-APPLE-STRUCTURED-LOCATION;VALUE=URI;X-ADDRESS=St Peters Lutheran Church – Orange 12 Heathbrae Parade Orange NSW 2800 Australia;X-APPLE-RADIUS=500;X-TITLE=12 Heathbrae Parade:geo:149.1073598,-33.2668758
END:VEVENT
BEGIN:VEVENT
DTSTART;TZID=Australia/Sydney:20210523T100000
DTEND;TZID=Australia/Sydney:20210523T110000
DTSTAMP:20260423T190850
CREATED:20210428T031916Z
LAST-MODIFIED:20210428T031916Z
UID:10000010-1621764000-1621767600@orange.lutheran.org.au
SUMMARY:Worship Service with Holy Commuion
DESCRIPTION:Fellowship and cuppa after the service (adhering to the Covid-19 safety plan)
URL:https://orange.lutheran.org.au/event/worship-service-with-holy-commuion/2021-05-23/
LOCATION:St Peters Lutheran Church – Orange\, 12 Heathbrae Parade\, Orange\, NSW\, 2800\, Australia
GEO:-33.2668758;149.1073598
X-APPLE-STRUCTURED-LOCATION;VALUE=URI;X-ADDRESS=St Peters Lutheran Church – Orange 12 Heathbrae Parade Orange NSW 2800 Australia;X-APPLE-RADIUS=500;X-TITLE=12 Heathbrae Parade:geo:149.1073598,-33.2668758
END:VEVENT
BEGIN:VEVENT
DTSTART;TZID=Australia/Sydney:20210523T100000
DTEND;TZID=Australia/Sydney:20210523T110000
DTSTAMP:20260423T190850
CREATED:20181217T052405Z
LAST-MODIFIED:20200209T025938Z
UID:10000271-1621764000-1621767600@orange.lutheran.org.au
SUMMARY:Worship Service with Holy Communion
DESCRIPTION:
URL:https://orange.lutheran.org.au/event/worship-service-lay-reading/2021-05-23/
LOCATION:St Peters Lutheran Church – Orange\, 12 Heathbrae Parade\, Orange\, NSW\, 2800\, Australia
CATEGORIES:Worship
GEO:-33.2668758;149.1073598
X-APPLE-STRUCTURED-LOCATION;VALUE=URI;X-ADDRESS=St Peters Lutheran Church – Orange 12 Heathbrae Parade Orange NSW 2800 Australia;X-APPLE-RADIUS=500;X-TITLE=12 Heathbrae Parade:geo:149.1073598,-33.2668758
END:VEVENT
BEGIN:VEVENT
DTSTART;TZID=Australia/Sydney:20210516T113000
DTEND;TZID=Australia/Sydney:20210516T123000
DTSTAMP:20260423T190850
CREATED:20181217T052530Z
LAST-MODIFIED:20181217T052715Z
UID:10000124-1621164600-1621168200@orange.lutheran.org.au
SUMMARY:Worship Service with Communion
DESCRIPTION:
URL:https://orange.lutheran.org.au/event/worship-service-with-communion/2021-05-16/
LOCATION:St Peters Lutheran Church – Orange\, 12 Heathbrae Parade\, Orange\, NSW\, 2800\, Australia
CATEGORIES:Worship
ATTACH;FMTTYPE=image/jpeg:https://orange.lutheran.org.au/wp-content/uploads/2018/12/communion-cup.jpg
GEO:-33.2668758;149.1073598
X-APPLE-STRUCTURED-LOCATION;VALUE=URI;X-ADDRESS=St Peters Lutheran Church – Orange 12 Heathbrae Parade Orange NSW 2800 Australia;X-APPLE-RADIUS=500;X-TITLE=12 Heathbrae Parade:geo:149.1073598,-33.2668758
END:VEVENT
BEGIN:VEVENT
DTSTART;TZID=Australia/Sydney:20210516T100000
DTEND;TZID=Australia/Sydney:20210516T110000
DTSTAMP:20260423T190850
CREATED:20210428T031916Z
LAST-MODIFIED:20210428T031916Z
UID:10000009-1621159200-1621162800@orange.lutheran.org.au
SUMMARY:Worship Service with Holy Commuion
DESCRIPTION:Fellowship and cuppa after the service (adhering to the Covid-19 safety plan)
URL:https://orange.lutheran.org.au/event/worship-service-with-holy-commuion/2021-05-16/
LOCATION:St Peters Lutheran Church – Orange\, 12 Heathbrae Parade\, Orange\, NSW\, 2800\, Australia
GEO:-33.2668758;149.1073598
X-APPLE-STRUCTURED-LOCATION;VALUE=URI;X-ADDRESS=St Peters Lutheran Church – Orange 12 Heathbrae Parade Orange NSW 2800 Australia;X-APPLE-RADIUS=500;X-TITLE=12 Heathbrae Parade:geo:149.1073598,-33.2668758
END:VEVENT
BEGIN:VEVENT
DTSTART;TZID=Australia/Sydney:20210509T100000
DTEND;TZID=Australia/Sydney:20210509T110000
DTSTAMP:20260423T190850
CREATED:20210428T031916Z
LAST-MODIFIED:20210428T031916Z
UID:10000008-1620554400-1620558000@orange.lutheran.org.au
SUMMARY:Worship Service with Holy Commuion
DESCRIPTION:Fellowship and cuppa after the service (adhering to the Covid-19 safety plan)
URL:https://orange.lutheran.org.au/event/worship-service-with-holy-commuion/2021-05-09/
LOCATION:St Peters Lutheran Church – Orange\, 12 Heathbrae Parade\, Orange\, NSW\, 2800\, Australia
GEO:-33.2668758;149.1073598
X-APPLE-STRUCTURED-LOCATION;VALUE=URI;X-ADDRESS=St Peters Lutheran Church – Orange 12 Heathbrae Parade Orange NSW 2800 Australia;X-APPLE-RADIUS=500;X-TITLE=12 Heathbrae Parade:geo:149.1073598,-33.2668758
END:VEVENT
BEGIN:VEVENT
DTSTART;TZID=Australia/Sydney:20210509T100000
DTEND;TZID=Australia/Sydney:20210509T110000
DTSTAMP:20260423T190850
CREATED:20181217T052405Z
LAST-MODIFIED:20200209T025938Z
UID:10000270-1620554400-1620558000@orange.lutheran.org.au
SUMMARY:Worship Service with Holy Communion
DESCRIPTION:
URL:https://orange.lutheran.org.au/event/worship-service-lay-reading/2021-05-09/
LOCATION:St Peters Lutheran Church – Orange\, 12 Heathbrae Parade\, Orange\, NSW\, 2800\, Australia
CATEGORIES:Worship
GEO:-33.2668758;149.1073598
X-APPLE-STRUCTURED-LOCATION;VALUE=URI;X-ADDRESS=St Peters Lutheran Church – Orange 12 Heathbrae Parade Orange NSW 2800 Australia;X-APPLE-RADIUS=500;X-TITLE=12 Heathbrae Parade:geo:149.1073598,-33.2668758
END:VEVENT
BEGIN:VEVENT
DTSTART;TZID=Australia/Sydney:20210502T100000
DTEND;TZID=Australia/Sydney:20210502T110000
DTSTAMP:20260423T190850
CREATED:20210428T031916Z
LAST-MODIFIED:20210428T031916Z
UID:10000007-1619949600-1619953200@orange.lutheran.org.au
SUMMARY:Worship Service with Holy Commuion
DESCRIPTION:Fellowship and cuppa after the service (adhering to the Covid-19 safety plan)
URL:https://orange.lutheran.org.au/event/worship-service-with-holy-commuion/2021-05-02/
LOCATION:St Peters Lutheran Church – Orange\, 12 Heathbrae Parade\, Orange\, NSW\, 2800\, Australia
GEO:-33.2668758;149.1073598
X-APPLE-STRUCTURED-LOCATION;VALUE=URI;X-ADDRESS=St Peters Lutheran Church – Orange 12 Heathbrae Parade Orange NSW 2800 Australia;X-APPLE-RADIUS=500;X-TITLE=12 Heathbrae Parade:geo:149.1073598,-33.2668758
END:VEVENT
BEGIN:VEVENT
DTSTART;TZID=Australia/Sydney:20210502T100000
DTEND;TZID=Australia/Sydney:20210502T110000
DTSTAMP:20260423T190850
CREATED:20181217T052405Z
LAST-MODIFIED:20200209T025938Z
UID:10000269-1619949600-1619953200@orange.lutheran.org.au
SUMMARY:Worship Service with Holy Communion
DESCRIPTION:
URL:https://orange.lutheran.org.au/event/worship-service-lay-reading/2021-05-02/
LOCATION:St Peters Lutheran Church – Orange\, 12 Heathbrae Parade\, Orange\, NSW\, 2800\, Australia
CATEGORIES:Worship
GEO:-33.2668758;149.1073598
X-APPLE-STRUCTURED-LOCATION;VALUE=URI;X-ADDRESS=St Peters Lutheran Church – Orange 12 Heathbrae Parade Orange NSW 2800 Australia;X-APPLE-RADIUS=500;X-TITLE=12 Heathbrae Parade:geo:149.1073598,-33.2668758
END:VEVENT
BEGIN:VEVENT
DTSTART;TZID=Australia/Sydney:20210425T100000
DTEND;TZID=Australia/Sydney:20210425T110000
DTSTAMP:20260423T190850
CREATED:20181217T052405Z
LAST-MODIFIED:20200209T025938Z
UID:10000268-1619344800-1619348400@orange.lutheran.org.au
SUMMARY:Worship Service with Holy Communion
DESCRIPTION:
URL:https://orange.lutheran.org.au/event/worship-service-lay-reading/2021-04-25/
LOCATION:St Peters Lutheran Church – Orange\, 12 Heathbrae Parade\, Orange\, NSW\, 2800\, Australia
CATEGORIES:Worship
GEO:-33.2668758;149.1073598
X-APPLE-STRUCTURED-LOCATION;VALUE=URI;X-ADDRESS=St Peters Lutheran Church – Orange 12 Heathbrae Parade Orange NSW 2800 Australia;X-APPLE-RADIUS=500;X-TITLE=12 Heathbrae Parade:geo:149.1073598,-33.2668758
END:VEVENT
BEGIN:VEVENT
DTSTART;TZID=Australia/Sydney:20210418T113000
DTEND;TZID=Australia/Sydney:20210418T123000
DTSTAMP:20260423T190850
CREATED:20181217T052530Z
LAST-MODIFIED:20181217T052715Z
UID:10000123-1618745400-1618749000@orange.lutheran.org.au
SUMMARY:Worship Service with Communion
DESCRIPTION:
URL:https://orange.lutheran.org.au/event/worship-service-with-communion/2021-04-18/
LOCATION:St Peters Lutheran Church – Orange\, 12 Heathbrae Parade\, Orange\, NSW\, 2800\, Australia
CATEGORIES:Worship
ATTACH;FMTTYPE=image/jpeg:https://orange.lutheran.org.au/wp-content/uploads/2018/12/communion-cup.jpg
GEO:-33.2668758;149.1073598
X-APPLE-STRUCTURED-LOCATION;VALUE=URI;X-ADDRESS=St Peters Lutheran Church – Orange 12 Heathbrae Parade Orange NSW 2800 Australia;X-APPLE-RADIUS=500;X-TITLE=12 Heathbrae Parade:geo:149.1073598,-33.2668758
END:VEVENT
BEGIN:VEVENT
DTSTART;TZID=Australia/Sydney:20210411T100000
DTEND;TZID=Australia/Sydney:20210411T110000
DTSTAMP:20260423T190850
CREATED:20181217T052405Z
LAST-MODIFIED:20200209T025938Z
UID:10000267-1618135200-1618138800@orange.lutheran.org.au
SUMMARY:Worship Service with Holy Communion
DESCRIPTION:
URL:https://orange.lutheran.org.au/event/worship-service-lay-reading/2021-04-11/
LOCATION:St Peters Lutheran Church – Orange\, 12 Heathbrae Parade\, Orange\, NSW\, 2800\, Australia
CATEGORIES:Worship
GEO:-33.2668758;149.1073598
X-APPLE-STRUCTURED-LOCATION;VALUE=URI;X-ADDRESS=St Peters Lutheran Church – Orange 12 Heathbrae Parade Orange NSW 2800 Australia;X-APPLE-RADIUS=500;X-TITLE=12 Heathbrae Parade:geo:149.1073598,-33.2668758
END:VEVENT
END:VCALENDAR