BEGIN:VCALENDAR
VERSION:2.0
PRODID:-//St Peters Lutheran Congregation, Orange NSW - ECPv6.15.14//NONSGML v1.0//EN
CALSCALE:GREGORIAN
METHOD:PUBLISH
X-WR-CALNAME:St Peters Lutheran Congregation, Orange NSW
X-ORIGINAL-URL:https://orange.lutheran.org.au
X-WR-CALDESC:Events for St Peters Lutheran Congregation, Orange NSW
REFRESH-INTERVAL;VALUE=DURATION:PT1H
X-Robots-Tag:noindex
X-PUBLISHED-TTL:PT1H
BEGIN:VTIMEZONE
TZID:Australia/Sydney
BEGIN:STANDARD
TZOFFSETFROM:+1100
TZOFFSETTO:+1000
TZNAME:AEST
DTSTART:20200404T160000
END:STANDARD
BEGIN:DAYLIGHT
TZOFFSETFROM:+1000
TZOFFSETTO:+1100
TZNAME:AEDT
DTSTART:20201003T160000
END:DAYLIGHT
BEGIN:STANDARD
TZOFFSETFROM:+1100
TZOFFSETTO:+1000
TZNAME:AEST
DTSTART:20210403T160000
END:STANDARD
BEGIN:DAYLIGHT
TZOFFSETFROM:+1000
TZOFFSETTO:+1100
TZNAME:AEDT
DTSTART:20211002T160000
END:DAYLIGHT
BEGIN:STANDARD
TZOFFSETFROM:+1100
TZOFFSETTO:+1000
TZNAME:AEST
DTSTART:20220402T160000
END:STANDARD
BEGIN:DAYLIGHT
TZOFFSETFROM:+1000
TZOFFSETTO:+1100
TZNAME:AEDT
DTSTART:20221001T160000
END:DAYLIGHT
BEGIN:STANDARD
TZOFFSETFROM:+1100
TZOFFSETTO:+1000
TZNAME:AEST
DTSTART:20230401T160000
END:STANDARD
BEGIN:DAYLIGHT
TZOFFSETFROM:+1000
TZOFFSETTO:+1100
TZNAME:AEDT
DTSTART:20230930T160000
END:DAYLIGHT
END:VTIMEZONE
BEGIN:VEVENT
DTSTART;TZID=Australia/Sydney:20220102T100000
DTEND;TZID=Australia/Sydney:20220102T110000
DTSTAMP:20260421T143829
CREATED:20181217T052405Z
LAST-MODIFIED:20200209T025938Z
UID:10000296-1641117600-1641121200@orange.lutheran.org.au
SUMMARY:Worship Service with Holy Communion
DESCRIPTION:
URL:https://orange.lutheran.org.au/event/worship-service-lay-reading/2022-01-02/
LOCATION:St Peters Lutheran Church – Orange\, 12 Heathbrae Parade\, Orange\, NSW\, 2800\, Australia
CATEGORIES:Worship
GEO:-33.2668758;149.1073598
X-APPLE-STRUCTURED-LOCATION;VALUE=URI;X-ADDRESS=St Peters Lutheran Church – Orange 12 Heathbrae Parade Orange NSW 2800 Australia;X-APPLE-RADIUS=500;X-TITLE=12 Heathbrae Parade:geo:149.1073598,-33.2668758
END:VEVENT
BEGIN:VEVENT
DTSTART;TZID=Australia/Sydney:20211226T100000
DTEND;TZID=Australia/Sydney:20211226T110000
DTSTAMP:20260421T143829
CREATED:20210428T031916Z
LAST-MODIFIED:20210428T031916Z
UID:10000041-1640512800-1640516400@orange.lutheran.org.au
SUMMARY:Worship Service with Holy Commuion
DESCRIPTION:Fellowship and cuppa after the service (adhering to the Covid-19 safety plan)
URL:https://orange.lutheran.org.au/event/worship-service-with-holy-commuion/2021-12-26/
LOCATION:St Peters Lutheran Church – Orange\, 12 Heathbrae Parade\, Orange\, NSW\, 2800\, Australia
GEO:-33.2668758;149.1073598
X-APPLE-STRUCTURED-LOCATION;VALUE=URI;X-ADDRESS=St Peters Lutheran Church – Orange 12 Heathbrae Parade Orange NSW 2800 Australia;X-APPLE-RADIUS=500;X-TITLE=12 Heathbrae Parade:geo:149.1073598,-33.2668758
END:VEVENT
BEGIN:VEVENT
DTSTART;TZID=Australia/Sydney:20211226T100000
DTEND;TZID=Australia/Sydney:20211226T110000
DTSTAMP:20260421T143829
CREATED:20181217T052405Z
LAST-MODIFIED:20200209T025938Z
UID:10000295-1640512800-1640516400@orange.lutheran.org.au
SUMMARY:Worship Service with Holy Communion
DESCRIPTION:
URL:https://orange.lutheran.org.au/event/worship-service-lay-reading/2021-12-26/
LOCATION:St Peters Lutheran Church – Orange\, 12 Heathbrae Parade\, Orange\, NSW\, 2800\, Australia
CATEGORIES:Worship
GEO:-33.2668758;149.1073598
X-APPLE-STRUCTURED-LOCATION;VALUE=URI;X-ADDRESS=St Peters Lutheran Church – Orange 12 Heathbrae Parade Orange NSW 2800 Australia;X-APPLE-RADIUS=500;X-TITLE=12 Heathbrae Parade:geo:149.1073598,-33.2668758
END:VEVENT
BEGIN:VEVENT
DTSTART;TZID=Australia/Sydney:20211219T113000
DTEND;TZID=Australia/Sydney:20211219T123000
DTSTAMP:20260421T143829
CREATED:20181217T052530Z
LAST-MODIFIED:20181217T052715Z
UID:10000131-1639913400-1639917000@orange.lutheran.org.au
SUMMARY:Worship Service with Communion
DESCRIPTION:
URL:https://orange.lutheran.org.au/event/worship-service-with-communion/2021-12-19/
LOCATION:St Peters Lutheran Church – Orange\, 12 Heathbrae Parade\, Orange\, NSW\, 2800\, Australia
CATEGORIES:Worship
ATTACH;FMTTYPE=image/jpeg:https://orange.lutheran.org.au/wp-content/uploads/2018/12/communion-cup.jpg
GEO:-33.2668758;149.1073598
X-APPLE-STRUCTURED-LOCATION;VALUE=URI;X-ADDRESS=St Peters Lutheran Church – Orange 12 Heathbrae Parade Orange NSW 2800 Australia;X-APPLE-RADIUS=500;X-TITLE=12 Heathbrae Parade:geo:149.1073598,-33.2668758
END:VEVENT
BEGIN:VEVENT
DTSTART;TZID=Australia/Sydney:20211219T100000
DTEND;TZID=Australia/Sydney:20211219T110000
DTSTAMP:20260421T143829
CREATED:20210428T031916Z
LAST-MODIFIED:20210428T031916Z
UID:10000040-1639908000-1639911600@orange.lutheran.org.au
SUMMARY:Worship Service with Holy Commuion
DESCRIPTION:Fellowship and cuppa after the service (adhering to the Covid-19 safety plan)
URL:https://orange.lutheran.org.au/event/worship-service-with-holy-commuion/2021-12-19/
LOCATION:St Peters Lutheran Church – Orange\, 12 Heathbrae Parade\, Orange\, NSW\, 2800\, Australia
GEO:-33.2668758;149.1073598
X-APPLE-STRUCTURED-LOCATION;VALUE=URI;X-ADDRESS=St Peters Lutheran Church – Orange 12 Heathbrae Parade Orange NSW 2800 Australia;X-APPLE-RADIUS=500;X-TITLE=12 Heathbrae Parade:geo:149.1073598,-33.2668758
END:VEVENT
BEGIN:VEVENT
DTSTART;TZID=Australia/Sydney:20211212T100000
DTEND;TZID=Australia/Sydney:20211212T110000
DTSTAMP:20260421T143829
CREATED:20210428T031916Z
LAST-MODIFIED:20210428T031916Z
UID:10000039-1639303200-1639306800@orange.lutheran.org.au
SUMMARY:Worship Service with Holy Commuion
DESCRIPTION:Fellowship and cuppa after the service (adhering to the Covid-19 safety plan)
URL:https://orange.lutheran.org.au/event/worship-service-with-holy-commuion/2021-12-12/
LOCATION:St Peters Lutheran Church – Orange\, 12 Heathbrae Parade\, Orange\, NSW\, 2800\, Australia
GEO:-33.2668758;149.1073598
X-APPLE-STRUCTURED-LOCATION;VALUE=URI;X-ADDRESS=St Peters Lutheran Church – Orange 12 Heathbrae Parade Orange NSW 2800 Australia;X-APPLE-RADIUS=500;X-TITLE=12 Heathbrae Parade:geo:149.1073598,-33.2668758
END:VEVENT
BEGIN:VEVENT
DTSTART;TZID=Australia/Sydney:20211212T100000
DTEND;TZID=Australia/Sydney:20211212T110000
DTSTAMP:20260421T143829
CREATED:20181217T052405Z
LAST-MODIFIED:20200209T025938Z
UID:10000294-1639303200-1639306800@orange.lutheran.org.au
SUMMARY:Worship Service with Holy Communion
DESCRIPTION:
URL:https://orange.lutheran.org.au/event/worship-service-lay-reading/2021-12-12/
LOCATION:St Peters Lutheran Church – Orange\, 12 Heathbrae Parade\, Orange\, NSW\, 2800\, Australia
CATEGORIES:Worship
GEO:-33.2668758;149.1073598
X-APPLE-STRUCTURED-LOCATION;VALUE=URI;X-ADDRESS=St Peters Lutheran Church – Orange 12 Heathbrae Parade Orange NSW 2800 Australia;X-APPLE-RADIUS=500;X-TITLE=12 Heathbrae Parade:geo:149.1073598,-33.2668758
END:VEVENT
BEGIN:VEVENT
DTSTART;TZID=Australia/Sydney:20211205T100000
DTEND;TZID=Australia/Sydney:20211205T110000
DTSTAMP:20260421T143829
CREATED:20210428T031916Z
LAST-MODIFIED:20210428T031916Z
UID:10000038-1638698400-1638702000@orange.lutheran.org.au
SUMMARY:Worship Service with Holy Commuion
DESCRIPTION:Fellowship and cuppa after the service (adhering to the Covid-19 safety plan)
URL:https://orange.lutheran.org.au/event/worship-service-with-holy-commuion/2021-12-05/
LOCATION:St Peters Lutheran Church – Orange\, 12 Heathbrae Parade\, Orange\, NSW\, 2800\, Australia
GEO:-33.2668758;149.1073598
X-APPLE-STRUCTURED-LOCATION;VALUE=URI;X-ADDRESS=St Peters Lutheran Church – Orange 12 Heathbrae Parade Orange NSW 2800 Australia;X-APPLE-RADIUS=500;X-TITLE=12 Heathbrae Parade:geo:149.1073598,-33.2668758
END:VEVENT
BEGIN:VEVENT
DTSTART;TZID=Australia/Sydney:20211205T100000
DTEND;TZID=Australia/Sydney:20211205T110000
DTSTAMP:20260421T143829
CREATED:20181217T052405Z
LAST-MODIFIED:20200209T025938Z
UID:10000293-1638698400-1638702000@orange.lutheran.org.au
SUMMARY:Worship Service with Holy Communion
DESCRIPTION:
URL:https://orange.lutheran.org.au/event/worship-service-lay-reading/2021-12-05/
LOCATION:St Peters Lutheran Church – Orange\, 12 Heathbrae Parade\, Orange\, NSW\, 2800\, Australia
CATEGORIES:Worship
GEO:-33.2668758;149.1073598
X-APPLE-STRUCTURED-LOCATION;VALUE=URI;X-ADDRESS=St Peters Lutheran Church – Orange 12 Heathbrae Parade Orange NSW 2800 Australia;X-APPLE-RADIUS=500;X-TITLE=12 Heathbrae Parade:geo:149.1073598,-33.2668758
END:VEVENT
BEGIN:VEVENT
DTSTART;TZID=Australia/Sydney:20211128T100000
DTEND;TZID=Australia/Sydney:20211128T110000
DTSTAMP:20260421T143829
CREATED:20210428T031916Z
LAST-MODIFIED:20210428T031916Z
UID:10000037-1638093600-1638097200@orange.lutheran.org.au
SUMMARY:Worship Service with Holy Commuion
DESCRIPTION:Fellowship and cuppa after the service (adhering to the Covid-19 safety plan)
URL:https://orange.lutheran.org.au/event/worship-service-with-holy-commuion/2021-11-28/
LOCATION:St Peters Lutheran Church – Orange\, 12 Heathbrae Parade\, Orange\, NSW\, 2800\, Australia
GEO:-33.2668758;149.1073598
X-APPLE-STRUCTURED-LOCATION;VALUE=URI;X-ADDRESS=St Peters Lutheran Church – Orange 12 Heathbrae Parade Orange NSW 2800 Australia;X-APPLE-RADIUS=500;X-TITLE=12 Heathbrae Parade:geo:149.1073598,-33.2668758
END:VEVENT
BEGIN:VEVENT
DTSTART;TZID=Australia/Sydney:20211128T100000
DTEND;TZID=Australia/Sydney:20211128T110000
DTSTAMP:20260421T143829
CREATED:20181217T052405Z
LAST-MODIFIED:20200209T025938Z
UID:10000292-1638093600-1638097200@orange.lutheran.org.au
SUMMARY:Worship Service with Holy Communion
DESCRIPTION:
URL:https://orange.lutheran.org.au/event/worship-service-lay-reading/2021-11-28/
LOCATION:St Peters Lutheran Church – Orange\, 12 Heathbrae Parade\, Orange\, NSW\, 2800\, Australia
CATEGORIES:Worship
GEO:-33.2668758;149.1073598
X-APPLE-STRUCTURED-LOCATION;VALUE=URI;X-ADDRESS=St Peters Lutheran Church – Orange 12 Heathbrae Parade Orange NSW 2800 Australia;X-APPLE-RADIUS=500;X-TITLE=12 Heathbrae Parade:geo:149.1073598,-33.2668758
END:VEVENT
BEGIN:VEVENT
DTSTART;TZID=Australia/Sydney:20211121T113000
DTEND;TZID=Australia/Sydney:20211121T123000
DTSTAMP:20260421T143829
CREATED:20181217T052530Z
LAST-MODIFIED:20181217T052715Z
UID:10000130-1637494200-1637497800@orange.lutheran.org.au
SUMMARY:Worship Service with Communion
DESCRIPTION:
URL:https://orange.lutheran.org.au/event/worship-service-with-communion/2021-11-21/
LOCATION:St Peters Lutheran Church – Orange\, 12 Heathbrae Parade\, Orange\, NSW\, 2800\, Australia
CATEGORIES:Worship
ATTACH;FMTTYPE=image/jpeg:https://orange.lutheran.org.au/wp-content/uploads/2018/12/communion-cup.jpg
GEO:-33.2668758;149.1073598
X-APPLE-STRUCTURED-LOCATION;VALUE=URI;X-ADDRESS=St Peters Lutheran Church – Orange 12 Heathbrae Parade Orange NSW 2800 Australia;X-APPLE-RADIUS=500;X-TITLE=12 Heathbrae Parade:geo:149.1073598,-33.2668758
END:VEVENT
BEGIN:VEVENT
DTSTART;TZID=Australia/Sydney:20211121T100000
DTEND;TZID=Australia/Sydney:20211121T110000
DTSTAMP:20260421T143829
CREATED:20210428T031916Z
LAST-MODIFIED:20210428T031916Z
UID:10000036-1637488800-1637492400@orange.lutheran.org.au
SUMMARY:Worship Service with Holy Commuion
DESCRIPTION:Fellowship and cuppa after the service (adhering to the Covid-19 safety plan)
URL:https://orange.lutheran.org.au/event/worship-service-with-holy-commuion/2021-11-21/
LOCATION:St Peters Lutheran Church – Orange\, 12 Heathbrae Parade\, Orange\, NSW\, 2800\, Australia
GEO:-33.2668758;149.1073598
X-APPLE-STRUCTURED-LOCATION;VALUE=URI;X-ADDRESS=St Peters Lutheran Church – Orange 12 Heathbrae Parade Orange NSW 2800 Australia;X-APPLE-RADIUS=500;X-TITLE=12 Heathbrae Parade:geo:149.1073598,-33.2668758
END:VEVENT
BEGIN:VEVENT
DTSTART;TZID=Australia/Sydney:20211114T100000
DTEND;TZID=Australia/Sydney:20211114T110000
DTSTAMP:20260421T143829
CREATED:20210428T031916Z
LAST-MODIFIED:20210428T031916Z
UID:10000035-1636884000-1636887600@orange.lutheran.org.au
SUMMARY:Worship Service with Holy Commuion
DESCRIPTION:Fellowship and cuppa after the service (adhering to the Covid-19 safety plan)
URL:https://orange.lutheran.org.au/event/worship-service-with-holy-commuion/2021-11-14/
LOCATION:St Peters Lutheran Church – Orange\, 12 Heathbrae Parade\, Orange\, NSW\, 2800\, Australia
GEO:-33.2668758;149.1073598
X-APPLE-STRUCTURED-LOCATION;VALUE=URI;X-ADDRESS=St Peters Lutheran Church – Orange 12 Heathbrae Parade Orange NSW 2800 Australia;X-APPLE-RADIUS=500;X-TITLE=12 Heathbrae Parade:geo:149.1073598,-33.2668758
END:VEVENT
BEGIN:VEVENT
DTSTART;TZID=Australia/Sydney:20211114T100000
DTEND;TZID=Australia/Sydney:20211114T110000
DTSTAMP:20260421T143829
CREATED:20181217T052405Z
LAST-MODIFIED:20200209T025938Z
UID:10000291-1636884000-1636887600@orange.lutheran.org.au
SUMMARY:Worship Service with Holy Communion
DESCRIPTION:
URL:https://orange.lutheran.org.au/event/worship-service-lay-reading/2021-11-14/
LOCATION:St Peters Lutheran Church – Orange\, 12 Heathbrae Parade\, Orange\, NSW\, 2800\, Australia
CATEGORIES:Worship
GEO:-33.2668758;149.1073598
X-APPLE-STRUCTURED-LOCATION;VALUE=URI;X-ADDRESS=St Peters Lutheran Church – Orange 12 Heathbrae Parade Orange NSW 2800 Australia;X-APPLE-RADIUS=500;X-TITLE=12 Heathbrae Parade:geo:149.1073598,-33.2668758
END:VEVENT
BEGIN:VEVENT
DTSTART;TZID=Australia/Sydney:20211107T100000
DTEND;TZID=Australia/Sydney:20211107T110000
DTSTAMP:20260421T143829
CREATED:20210428T031916Z
LAST-MODIFIED:20210428T031916Z
UID:10000034-1636279200-1636282800@orange.lutheran.org.au
SUMMARY:Worship Service with Holy Commuion
DESCRIPTION:Fellowship and cuppa after the service (adhering to the Covid-19 safety plan)
URL:https://orange.lutheran.org.au/event/worship-service-with-holy-commuion/2021-11-07/
LOCATION:St Peters Lutheran Church – Orange\, 12 Heathbrae Parade\, Orange\, NSW\, 2800\, Australia
GEO:-33.2668758;149.1073598
X-APPLE-STRUCTURED-LOCATION;VALUE=URI;X-ADDRESS=St Peters Lutheran Church – Orange 12 Heathbrae Parade Orange NSW 2800 Australia;X-APPLE-RADIUS=500;X-TITLE=12 Heathbrae Parade:geo:149.1073598,-33.2668758
END:VEVENT
BEGIN:VEVENT
DTSTART;TZID=Australia/Sydney:20211107T100000
DTEND;TZID=Australia/Sydney:20211107T110000
DTSTAMP:20260421T143829
CREATED:20181217T052405Z
LAST-MODIFIED:20200209T025938Z
UID:10000290-1636279200-1636282800@orange.lutheran.org.au
SUMMARY:Worship Service with Holy Communion
DESCRIPTION:
URL:https://orange.lutheran.org.au/event/worship-service-lay-reading/2021-11-07/
LOCATION:St Peters Lutheran Church – Orange\, 12 Heathbrae Parade\, Orange\, NSW\, 2800\, Australia
CATEGORIES:Worship
GEO:-33.2668758;149.1073598
X-APPLE-STRUCTURED-LOCATION;VALUE=URI;X-ADDRESS=St Peters Lutheran Church – Orange 12 Heathbrae Parade Orange NSW 2800 Australia;X-APPLE-RADIUS=500;X-TITLE=12 Heathbrae Parade:geo:149.1073598,-33.2668758
END:VEVENT
BEGIN:VEVENT
DTSTART;TZID=Australia/Sydney:20211031T100000
DTEND;TZID=Australia/Sydney:20211031T110000
DTSTAMP:20260421T143829
CREATED:20210428T031916Z
LAST-MODIFIED:20210428T031916Z
UID:10000033-1635674400-1635678000@orange.lutheran.org.au
SUMMARY:Worship Service with Holy Commuion
DESCRIPTION:Fellowship and cuppa after the service (adhering to the Covid-19 safety plan)
URL:https://orange.lutheran.org.au/event/worship-service-with-holy-commuion/2021-10-31/
LOCATION:St Peters Lutheran Church – Orange\, 12 Heathbrae Parade\, Orange\, NSW\, 2800\, Australia
GEO:-33.2668758;149.1073598
X-APPLE-STRUCTURED-LOCATION;VALUE=URI;X-ADDRESS=St Peters Lutheran Church – Orange 12 Heathbrae Parade Orange NSW 2800 Australia;X-APPLE-RADIUS=500;X-TITLE=12 Heathbrae Parade:geo:149.1073598,-33.2668758
END:VEVENT
BEGIN:VEVENT
DTSTART;TZID=Australia/Sydney:20211031T100000
DTEND;TZID=Australia/Sydney:20211031T110000
DTSTAMP:20260421T143829
CREATED:20181217T052405Z
LAST-MODIFIED:20200209T025938Z
UID:10000289-1635674400-1635678000@orange.lutheran.org.au
SUMMARY:Worship Service with Holy Communion
DESCRIPTION:
URL:https://orange.lutheran.org.au/event/worship-service-lay-reading/2021-10-31/
LOCATION:St Peters Lutheran Church – Orange\, 12 Heathbrae Parade\, Orange\, NSW\, 2800\, Australia
CATEGORIES:Worship
GEO:-33.2668758;149.1073598
X-APPLE-STRUCTURED-LOCATION;VALUE=URI;X-ADDRESS=St Peters Lutheran Church – Orange 12 Heathbrae Parade Orange NSW 2800 Australia;X-APPLE-RADIUS=500;X-TITLE=12 Heathbrae Parade:geo:149.1073598,-33.2668758
END:VEVENT
BEGIN:VEVENT
DTSTART;TZID=Australia/Sydney:20211024T100000
DTEND;TZID=Australia/Sydney:20211024T110000
DTSTAMP:20260421T143829
CREATED:20210428T031916Z
LAST-MODIFIED:20210428T031916Z
UID:10000032-1635069600-1635073200@orange.lutheran.org.au
SUMMARY:Worship Service with Holy Commuion
DESCRIPTION:Fellowship and cuppa after the service (adhering to the Covid-19 safety plan)
URL:https://orange.lutheran.org.au/event/worship-service-with-holy-commuion/2021-10-24/
LOCATION:St Peters Lutheran Church – Orange\, 12 Heathbrae Parade\, Orange\, NSW\, 2800\, Australia
GEO:-33.2668758;149.1073598
X-APPLE-STRUCTURED-LOCATION;VALUE=URI;X-ADDRESS=St Peters Lutheran Church – Orange 12 Heathbrae Parade Orange NSW 2800 Australia;X-APPLE-RADIUS=500;X-TITLE=12 Heathbrae Parade:geo:149.1073598,-33.2668758
END:VEVENT
BEGIN:VEVENT
DTSTART;TZID=Australia/Sydney:20211024T100000
DTEND;TZID=Australia/Sydney:20211024T110000
DTSTAMP:20260421T143829
CREATED:20181217T052405Z
LAST-MODIFIED:20200209T025938Z
UID:10000288-1635069600-1635073200@orange.lutheran.org.au
SUMMARY:Worship Service with Holy Communion
DESCRIPTION:
URL:https://orange.lutheran.org.au/event/worship-service-lay-reading/2021-10-24/
LOCATION:St Peters Lutheran Church – Orange\, 12 Heathbrae Parade\, Orange\, NSW\, 2800\, Australia
CATEGORIES:Worship
GEO:-33.2668758;149.1073598
X-APPLE-STRUCTURED-LOCATION;VALUE=URI;X-ADDRESS=St Peters Lutheran Church – Orange 12 Heathbrae Parade Orange NSW 2800 Australia;X-APPLE-RADIUS=500;X-TITLE=12 Heathbrae Parade:geo:149.1073598,-33.2668758
END:VEVENT
BEGIN:VEVENT
DTSTART;TZID=Australia/Sydney:20211017T113000
DTEND;TZID=Australia/Sydney:20211017T123000
DTSTAMP:20260421T143829
CREATED:20181217T052530Z
LAST-MODIFIED:20181217T052715Z
UID:10000129-1634470200-1634473800@orange.lutheran.org.au
SUMMARY:Worship Service with Communion
DESCRIPTION:
URL:https://orange.lutheran.org.au/event/worship-service-with-communion/2021-10-17/
LOCATION:St Peters Lutheran Church – Orange\, 12 Heathbrae Parade\, Orange\, NSW\, 2800\, Australia
CATEGORIES:Worship
ATTACH;FMTTYPE=image/jpeg:https://orange.lutheran.org.au/wp-content/uploads/2018/12/communion-cup.jpg
GEO:-33.2668758;149.1073598
X-APPLE-STRUCTURED-LOCATION;VALUE=URI;X-ADDRESS=St Peters Lutheran Church – Orange 12 Heathbrae Parade Orange NSW 2800 Australia;X-APPLE-RADIUS=500;X-TITLE=12 Heathbrae Parade:geo:149.1073598,-33.2668758
END:VEVENT
BEGIN:VEVENT
DTSTART;TZID=Australia/Sydney:20211017T100000
DTEND;TZID=Australia/Sydney:20211017T110000
DTSTAMP:20260421T143829
CREATED:20210428T031916Z
LAST-MODIFIED:20210428T031916Z
UID:10000031-1634464800-1634468400@orange.lutheran.org.au
SUMMARY:Worship Service with Holy Commuion
DESCRIPTION:Fellowship and cuppa after the service (adhering to the Covid-19 safety plan)
URL:https://orange.lutheran.org.au/event/worship-service-with-holy-commuion/2021-10-17/
LOCATION:St Peters Lutheran Church – Orange\, 12 Heathbrae Parade\, Orange\, NSW\, 2800\, Australia
GEO:-33.2668758;149.1073598
X-APPLE-STRUCTURED-LOCATION;VALUE=URI;X-ADDRESS=St Peters Lutheran Church – Orange 12 Heathbrae Parade Orange NSW 2800 Australia;X-APPLE-RADIUS=500;X-TITLE=12 Heathbrae Parade:geo:149.1073598,-33.2668758
END:VEVENT
BEGIN:VEVENT
DTSTART;TZID=Australia/Sydney:20211010T100000
DTEND;TZID=Australia/Sydney:20211010T110000
DTSTAMP:20260421T143829
CREATED:20210428T031916Z
LAST-MODIFIED:20210428T031916Z
UID:10000030-1633860000-1633863600@orange.lutheran.org.au
SUMMARY:Worship Service with Holy Commuion
DESCRIPTION:Fellowship and cuppa after the service (adhering to the Covid-19 safety plan)
URL:https://orange.lutheran.org.au/event/worship-service-with-holy-commuion/2021-10-10/
LOCATION:St Peters Lutheran Church – Orange\, 12 Heathbrae Parade\, Orange\, NSW\, 2800\, Australia
GEO:-33.2668758;149.1073598
X-APPLE-STRUCTURED-LOCATION;VALUE=URI;X-ADDRESS=St Peters Lutheran Church – Orange 12 Heathbrae Parade Orange NSW 2800 Australia;X-APPLE-RADIUS=500;X-TITLE=12 Heathbrae Parade:geo:149.1073598,-33.2668758
END:VEVENT
BEGIN:VEVENT
DTSTART;TZID=Australia/Sydney:20211010T100000
DTEND;TZID=Australia/Sydney:20211010T110000
DTSTAMP:20260421T143829
CREATED:20181217T052405Z
LAST-MODIFIED:20200209T025938Z
UID:10000287-1633860000-1633863600@orange.lutheran.org.au
SUMMARY:Worship Service with Holy Communion
DESCRIPTION:
URL:https://orange.lutheran.org.au/event/worship-service-lay-reading/2021-10-10/
LOCATION:St Peters Lutheran Church – Orange\, 12 Heathbrae Parade\, Orange\, NSW\, 2800\, Australia
CATEGORIES:Worship
GEO:-33.2668758;149.1073598
X-APPLE-STRUCTURED-LOCATION;VALUE=URI;X-ADDRESS=St Peters Lutheran Church – Orange 12 Heathbrae Parade Orange NSW 2800 Australia;X-APPLE-RADIUS=500;X-TITLE=12 Heathbrae Parade:geo:149.1073598,-33.2668758
END:VEVENT
BEGIN:VEVENT
DTSTART;TZID=Australia/Sydney:20211003T100000
DTEND;TZID=Australia/Sydney:20211003T110000
DTSTAMP:20260421T143829
CREATED:20210428T031916Z
LAST-MODIFIED:20210428T031916Z
UID:10000029-1633255200-1633258800@orange.lutheran.org.au
SUMMARY:Worship Service with Holy Commuion
DESCRIPTION:Fellowship and cuppa after the service (adhering to the Covid-19 safety plan)
URL:https://orange.lutheran.org.au/event/worship-service-with-holy-commuion/2021-10-03/
LOCATION:St Peters Lutheran Church – Orange\, 12 Heathbrae Parade\, Orange\, NSW\, 2800\, Australia
GEO:-33.2668758;149.1073598
X-APPLE-STRUCTURED-LOCATION;VALUE=URI;X-ADDRESS=St Peters Lutheran Church – Orange 12 Heathbrae Parade Orange NSW 2800 Australia;X-APPLE-RADIUS=500;X-TITLE=12 Heathbrae Parade:geo:149.1073598,-33.2668758
END:VEVENT
BEGIN:VEVENT
DTSTART;TZID=Australia/Sydney:20211003T100000
DTEND;TZID=Australia/Sydney:20211003T110000
DTSTAMP:20260421T143829
CREATED:20181217T052405Z
LAST-MODIFIED:20200209T025938Z
UID:10000286-1633255200-1633258800@orange.lutheran.org.au
SUMMARY:Worship Service with Holy Communion
DESCRIPTION:
URL:https://orange.lutheran.org.au/event/worship-service-lay-reading/2021-10-03/
LOCATION:St Peters Lutheran Church – Orange\, 12 Heathbrae Parade\, Orange\, NSW\, 2800\, Australia
CATEGORIES:Worship
GEO:-33.2668758;149.1073598
X-APPLE-STRUCTURED-LOCATION;VALUE=URI;X-ADDRESS=St Peters Lutheran Church – Orange 12 Heathbrae Parade Orange NSW 2800 Australia;X-APPLE-RADIUS=500;X-TITLE=12 Heathbrae Parade:geo:149.1073598,-33.2668758
END:VEVENT
BEGIN:VEVENT
DTSTART;TZID=Australia/Sydney:20210926T100000
DTEND;TZID=Australia/Sydney:20210926T110000
DTSTAMP:20260421T143829
CREATED:20210428T031916Z
LAST-MODIFIED:20210428T031916Z
UID:10000028-1632650400-1632654000@orange.lutheran.org.au
SUMMARY:Worship Service with Holy Commuion
DESCRIPTION:Fellowship and cuppa after the service (adhering to the Covid-19 safety plan)
URL:https://orange.lutheran.org.au/event/worship-service-with-holy-commuion/2021-09-26/
LOCATION:St Peters Lutheran Church – Orange\, 12 Heathbrae Parade\, Orange\, NSW\, 2800\, Australia
GEO:-33.2668758;149.1073598
X-APPLE-STRUCTURED-LOCATION;VALUE=URI;X-ADDRESS=St Peters Lutheran Church – Orange 12 Heathbrae Parade Orange NSW 2800 Australia;X-APPLE-RADIUS=500;X-TITLE=12 Heathbrae Parade:geo:149.1073598,-33.2668758
END:VEVENT
BEGIN:VEVENT
DTSTART;TZID=Australia/Sydney:20210926T100000
DTEND;TZID=Australia/Sydney:20210926T110000
DTSTAMP:20260421T143829
CREATED:20181217T052405Z
LAST-MODIFIED:20200209T025938Z
UID:10000285-1632650400-1632654000@orange.lutheran.org.au
SUMMARY:Worship Service with Holy Communion
DESCRIPTION:
URL:https://orange.lutheran.org.au/event/worship-service-lay-reading/2021-09-26/
LOCATION:St Peters Lutheran Church – Orange\, 12 Heathbrae Parade\, Orange\, NSW\, 2800\, Australia
CATEGORIES:Worship
GEO:-33.2668758;149.1073598
X-APPLE-STRUCTURED-LOCATION;VALUE=URI;X-ADDRESS=St Peters Lutheran Church – Orange 12 Heathbrae Parade Orange NSW 2800 Australia;X-APPLE-RADIUS=500;X-TITLE=12 Heathbrae Parade:geo:149.1073598,-33.2668758
END:VEVENT
BEGIN:VEVENT
DTSTART;TZID=Australia/Sydney:20210919T113000
DTEND;TZID=Australia/Sydney:20210919T123000
DTSTAMP:20260421T143829
CREATED:20181217T052530Z
LAST-MODIFIED:20181217T052715Z
UID:10000128-1632051000-1632054600@orange.lutheran.org.au
SUMMARY:Worship Service with Communion
DESCRIPTION:
URL:https://orange.lutheran.org.au/event/worship-service-with-communion/2021-09-19/
LOCATION:St Peters Lutheran Church – Orange\, 12 Heathbrae Parade\, Orange\, NSW\, 2800\, Australia
CATEGORIES:Worship
ATTACH;FMTTYPE=image/jpeg:https://orange.lutheran.org.au/wp-content/uploads/2018/12/communion-cup.jpg
GEO:-33.2668758;149.1073598
X-APPLE-STRUCTURED-LOCATION;VALUE=URI;X-ADDRESS=St Peters Lutheran Church – Orange 12 Heathbrae Parade Orange NSW 2800 Australia;X-APPLE-RADIUS=500;X-TITLE=12 Heathbrae Parade:geo:149.1073598,-33.2668758
END:VEVENT
END:VCALENDAR