BEGIN:VCALENDAR
VERSION:2.0
PRODID:-//St Peters Lutheran Congregation, Orange NSW - ECPv6.15.14//NONSGML v1.0//EN
CALSCALE:GREGORIAN
METHOD:PUBLISH
X-WR-CALNAME:St Peters Lutheran Congregation, Orange NSW
X-ORIGINAL-URL:https://orange.lutheran.org.au
X-WR-CALDESC:Events for St Peters Lutheran Congregation, Orange NSW
REFRESH-INTERVAL;VALUE=DURATION:PT1H
X-Robots-Tag:noindex
X-PUBLISHED-TTL:PT1H
BEGIN:VTIMEZONE
TZID:Australia/Sydney
BEGIN:STANDARD
TZOFFSETFROM:+1100
TZOFFSETTO:+1000
TZNAME:AEST
DTSTART:20220402T160000
END:STANDARD
BEGIN:DAYLIGHT
TZOFFSETFROM:+1000
TZOFFSETTO:+1100
TZNAME:AEDT
DTSTART:20221001T160000
END:DAYLIGHT
BEGIN:STANDARD
TZOFFSETFROM:+1100
TZOFFSETTO:+1000
TZNAME:AEST
DTSTART:20230401T160000
END:STANDARD
BEGIN:DAYLIGHT
TZOFFSETFROM:+1000
TZOFFSETTO:+1100
TZNAME:AEDT
DTSTART:20230930T160000
END:DAYLIGHT
BEGIN:STANDARD
TZOFFSETFROM:+1100
TZOFFSETTO:+1000
TZNAME:AEST
DTSTART:20240406T160000
END:STANDARD
BEGIN:DAYLIGHT
TZOFFSETFROM:+1000
TZOFFSETTO:+1100
TZNAME:AEDT
DTSTART:20241005T160000
END:DAYLIGHT
END:VTIMEZONE
BEGIN:VEVENT
DTSTART;TZID=Australia/Sydney:20230806T100000
DTEND;TZID=Australia/Sydney:20230806T110000
DTSTAMP:20260420T140252
CREATED:20230114T013413Z
LAST-MODIFIED:20230114T013413Z
UID:10000071-1691316000-1691319600@orange.lutheran.org.au
SUMMARY:Worship Service with Holy Communion
DESCRIPTION:
URL:https://orange.lutheran.org.au/event/worship-service-with-holy-communion/2023-08-06/
LOCATION:NSW
END:VEVENT
BEGIN:VEVENT
DTSTART;TZID=Australia/Sydney:20230806T100000
DTEND;TZID=Australia/Sydney:20230806T110000
DTSTAMP:20260420T140252
CREATED:20181217T052405Z
LAST-MODIFIED:20200209T025938Z
UID:10000360-1691316000-1691319600@orange.lutheran.org.au
SUMMARY:Worship Service with Holy Communion
DESCRIPTION:
URL:https://orange.lutheran.org.au/event/worship-service-lay-reading/2023-08-06/
LOCATION:St Peters Lutheran Church – Orange\, 12 Heathbrae Parade\, Orange\, NSW\, 2800\, Australia
CATEGORIES:Worship
GEO:-33.2668758;149.1073598
X-APPLE-STRUCTURED-LOCATION;VALUE=URI;X-ADDRESS=St Peters Lutheran Church – Orange 12 Heathbrae Parade Orange NSW 2800 Australia;X-APPLE-RADIUS=500;X-TITLE=12 Heathbrae Parade:geo:149.1073598,-33.2668758
END:VEVENT
BEGIN:VEVENT
DTSTART;TZID=Australia/Sydney:20230730T100000
DTEND;TZID=Australia/Sydney:20230730T110000
DTSTAMP:20260420T140252
CREATED:20230114T013413Z
LAST-MODIFIED:20230114T013413Z
UID:10000070-1690711200-1690714800@orange.lutheran.org.au
SUMMARY:Worship Service with Holy Communion
DESCRIPTION:
URL:https://orange.lutheran.org.au/event/worship-service-with-holy-communion/2023-07-30/
LOCATION:NSW
END:VEVENT
BEGIN:VEVENT
DTSTART;TZID=Australia/Sydney:20230730T100000
DTEND;TZID=Australia/Sydney:20230730T110000
DTSTAMP:20260420T140252
CREATED:20181217T052405Z
LAST-MODIFIED:20200209T025938Z
UID:10000359-1690711200-1690714800@orange.lutheran.org.au
SUMMARY:Worship Service with Holy Communion
DESCRIPTION:
URL:https://orange.lutheran.org.au/event/worship-service-lay-reading/2023-07-30/
LOCATION:St Peters Lutheran Church – Orange\, 12 Heathbrae Parade\, Orange\, NSW\, 2800\, Australia
CATEGORIES:Worship
GEO:-33.2668758;149.1073598
X-APPLE-STRUCTURED-LOCATION;VALUE=URI;X-ADDRESS=St Peters Lutheran Church – Orange 12 Heathbrae Parade Orange NSW 2800 Australia;X-APPLE-RADIUS=500;X-TITLE=12 Heathbrae Parade:geo:149.1073598,-33.2668758
END:VEVENT
BEGIN:VEVENT
DTSTART;TZID=Australia/Sydney:20230723T100000
DTEND;TZID=Australia/Sydney:20230723T110000
DTSTAMP:20260420T140252
CREATED:20230114T013413Z
LAST-MODIFIED:20230114T013413Z
UID:10000069-1690106400-1690110000@orange.lutheran.org.au
SUMMARY:Worship Service with Holy Communion
DESCRIPTION:
URL:https://orange.lutheran.org.au/event/worship-service-with-holy-communion/2023-07-23/
LOCATION:NSW
END:VEVENT
BEGIN:VEVENT
DTSTART;TZID=Australia/Sydney:20230723T100000
DTEND;TZID=Australia/Sydney:20230723T110000
DTSTAMP:20260420T140252
CREATED:20181217T052405Z
LAST-MODIFIED:20200209T025938Z
UID:10000358-1690106400-1690110000@orange.lutheran.org.au
SUMMARY:Worship Service with Holy Communion
DESCRIPTION:
URL:https://orange.lutheran.org.au/event/worship-service-lay-reading/2023-07-23/
LOCATION:St Peters Lutheran Church – Orange\, 12 Heathbrae Parade\, Orange\, NSW\, 2800\, Australia
CATEGORIES:Worship
GEO:-33.2668758;149.1073598
X-APPLE-STRUCTURED-LOCATION;VALUE=URI;X-ADDRESS=St Peters Lutheran Church – Orange 12 Heathbrae Parade Orange NSW 2800 Australia;X-APPLE-RADIUS=500;X-TITLE=12 Heathbrae Parade:geo:149.1073598,-33.2668758
END:VEVENT
BEGIN:VEVENT
DTSTART;TZID=Australia/Sydney:20230716T113000
DTEND;TZID=Australia/Sydney:20230716T123000
DTSTAMP:20260420T140252
CREATED:20181217T052530Z
LAST-MODIFIED:20181217T052715Z
UID:10000150-1689507000-1689510600@orange.lutheran.org.au
SUMMARY:Worship Service with Communion
DESCRIPTION:
URL:https://orange.lutheran.org.au/event/worship-service-with-communion/2023-07-16/
LOCATION:St Peters Lutheran Church – Orange\, 12 Heathbrae Parade\, Orange\, NSW\, 2800\, Australia
CATEGORIES:Worship
ATTACH;FMTTYPE=image/jpeg:https://orange.lutheran.org.au/wp-content/uploads/2018/12/communion-cup.jpg
GEO:-33.2668758;149.1073598
X-APPLE-STRUCTURED-LOCATION;VALUE=URI;X-ADDRESS=St Peters Lutheran Church – Orange 12 Heathbrae Parade Orange NSW 2800 Australia;X-APPLE-RADIUS=500;X-TITLE=12 Heathbrae Parade:geo:149.1073598,-33.2668758
END:VEVENT
BEGIN:VEVENT
DTSTART;TZID=Australia/Sydney:20230716T100000
DTEND;TZID=Australia/Sydney:20230716T110000
DTSTAMP:20260420T140252
CREATED:20230114T013413Z
LAST-MODIFIED:20230114T013413Z
UID:10000068-1689501600-1689505200@orange.lutheran.org.au
SUMMARY:Worship Service with Holy Communion
DESCRIPTION:
URL:https://orange.lutheran.org.au/event/worship-service-with-holy-communion/2023-07-16/
LOCATION:NSW
END:VEVENT
BEGIN:VEVENT
DTSTART;TZID=Australia/Sydney:20230709T100000
DTEND;TZID=Australia/Sydney:20230709T110000
DTSTAMP:20260420T140252
CREATED:20230114T013413Z
LAST-MODIFIED:20230114T013413Z
UID:10000067-1688896800-1688900400@orange.lutheran.org.au
SUMMARY:Worship Service with Holy Communion
DESCRIPTION:
URL:https://orange.lutheran.org.au/event/worship-service-with-holy-communion/2023-07-09/
LOCATION:NSW
END:VEVENT
BEGIN:VEVENT
DTSTART;TZID=Australia/Sydney:20230709T100000
DTEND;TZID=Australia/Sydney:20230709T110000
DTSTAMP:20260420T140252
CREATED:20181217T052405Z
LAST-MODIFIED:20200209T025938Z
UID:10000357-1688896800-1688900400@orange.lutheran.org.au
SUMMARY:Worship Service with Holy Communion
DESCRIPTION:
URL:https://orange.lutheran.org.au/event/worship-service-lay-reading/2023-07-09/
LOCATION:St Peters Lutheran Church – Orange\, 12 Heathbrae Parade\, Orange\, NSW\, 2800\, Australia
CATEGORIES:Worship
GEO:-33.2668758;149.1073598
X-APPLE-STRUCTURED-LOCATION;VALUE=URI;X-ADDRESS=St Peters Lutheran Church – Orange 12 Heathbrae Parade Orange NSW 2800 Australia;X-APPLE-RADIUS=500;X-TITLE=12 Heathbrae Parade:geo:149.1073598,-33.2668758
END:VEVENT
BEGIN:VEVENT
DTSTART;TZID=Australia/Sydney:20230702T100000
DTEND;TZID=Australia/Sydney:20230702T110000
DTSTAMP:20260420T140252
CREATED:20230114T013413Z
LAST-MODIFIED:20230114T013413Z
UID:10000066-1688292000-1688295600@orange.lutheran.org.au
SUMMARY:Worship Service with Holy Communion
DESCRIPTION:
URL:https://orange.lutheran.org.au/event/worship-service-with-holy-communion/2023-07-02/
LOCATION:NSW
END:VEVENT
BEGIN:VEVENT
DTSTART;TZID=Australia/Sydney:20230702T100000
DTEND;TZID=Australia/Sydney:20230702T110000
DTSTAMP:20260420T140252
CREATED:20181217T052405Z
LAST-MODIFIED:20200209T025938Z
UID:10000356-1688292000-1688295600@orange.lutheran.org.au
SUMMARY:Worship Service with Holy Communion
DESCRIPTION:
URL:https://orange.lutheran.org.au/event/worship-service-lay-reading/2023-07-02/
LOCATION:St Peters Lutheran Church – Orange\, 12 Heathbrae Parade\, Orange\, NSW\, 2800\, Australia
CATEGORIES:Worship
GEO:-33.2668758;149.1073598
X-APPLE-STRUCTURED-LOCATION;VALUE=URI;X-ADDRESS=St Peters Lutheran Church – Orange 12 Heathbrae Parade Orange NSW 2800 Australia;X-APPLE-RADIUS=500;X-TITLE=12 Heathbrae Parade:geo:149.1073598,-33.2668758
END:VEVENT
BEGIN:VEVENT
DTSTART;TZID=Australia/Sydney:20230625T100000
DTEND;TZID=Australia/Sydney:20230625T110000
DTSTAMP:20260420T140252
CREATED:20230114T013413Z
LAST-MODIFIED:20230114T013413Z
UID:10000065-1687687200-1687690800@orange.lutheran.org.au
SUMMARY:Worship Service with Holy Communion
DESCRIPTION:
URL:https://orange.lutheran.org.au/event/worship-service-with-holy-communion/2023-06-25/
LOCATION:NSW
END:VEVENT
BEGIN:VEVENT
DTSTART;TZID=Australia/Sydney:20230625T100000
DTEND;TZID=Australia/Sydney:20230625T110000
DTSTAMP:20260420T140252
CREATED:20181217T052405Z
LAST-MODIFIED:20200209T025938Z
UID:10000355-1687687200-1687690800@orange.lutheran.org.au
SUMMARY:Worship Service with Holy Communion
DESCRIPTION:
URL:https://orange.lutheran.org.au/event/worship-service-lay-reading/2023-06-25/
LOCATION:St Peters Lutheran Church – Orange\, 12 Heathbrae Parade\, Orange\, NSW\, 2800\, Australia
CATEGORIES:Worship
GEO:-33.2668758;149.1073598
X-APPLE-STRUCTURED-LOCATION;VALUE=URI;X-ADDRESS=St Peters Lutheran Church – Orange 12 Heathbrae Parade Orange NSW 2800 Australia;X-APPLE-RADIUS=500;X-TITLE=12 Heathbrae Parade:geo:149.1073598,-33.2668758
END:VEVENT
BEGIN:VEVENT
DTSTART;TZID=Australia/Sydney:20230618T113000
DTEND;TZID=Australia/Sydney:20230618T123000
DTSTAMP:20260420T140252
CREATED:20181217T052530Z
LAST-MODIFIED:20181217T052715Z
UID:10000149-1687087800-1687091400@orange.lutheran.org.au
SUMMARY:Worship Service with Communion
DESCRIPTION:
URL:https://orange.lutheran.org.au/event/worship-service-with-communion/2023-06-18/
LOCATION:St Peters Lutheran Church – Orange\, 12 Heathbrae Parade\, Orange\, NSW\, 2800\, Australia
CATEGORIES:Worship
ATTACH;FMTTYPE=image/jpeg:https://orange.lutheran.org.au/wp-content/uploads/2018/12/communion-cup.jpg
GEO:-33.2668758;149.1073598
X-APPLE-STRUCTURED-LOCATION;VALUE=URI;X-ADDRESS=St Peters Lutheran Church – Orange 12 Heathbrae Parade Orange NSW 2800 Australia;X-APPLE-RADIUS=500;X-TITLE=12 Heathbrae Parade:geo:149.1073598,-33.2668758
END:VEVENT
BEGIN:VEVENT
DTSTART;TZID=Australia/Sydney:20230618T100000
DTEND;TZID=Australia/Sydney:20230618T110000
DTSTAMP:20260420T140252
CREATED:20230114T013413Z
LAST-MODIFIED:20230114T013413Z
UID:10000064-1687082400-1687086000@orange.lutheran.org.au
SUMMARY:Worship Service with Holy Communion
DESCRIPTION:
URL:https://orange.lutheran.org.au/event/worship-service-with-holy-communion/2023-06-18/
LOCATION:NSW
END:VEVENT
BEGIN:VEVENT
DTSTART;TZID=Australia/Sydney:20230611T100000
DTEND;TZID=Australia/Sydney:20230611T110000
DTSTAMP:20260420T140252
CREATED:20230114T013413Z
LAST-MODIFIED:20230114T013413Z
UID:10000063-1686477600-1686481200@orange.lutheran.org.au
SUMMARY:Worship Service with Holy Communion
DESCRIPTION:
URL:https://orange.lutheran.org.au/event/worship-service-with-holy-communion/2023-06-11/
LOCATION:NSW
END:VEVENT
BEGIN:VEVENT
DTSTART;TZID=Australia/Sydney:20230611T100000
DTEND;TZID=Australia/Sydney:20230611T110000
DTSTAMP:20260420T140252
CREATED:20181217T052405Z
LAST-MODIFIED:20200209T025938Z
UID:10000354-1686477600-1686481200@orange.lutheran.org.au
SUMMARY:Worship Service with Holy Communion
DESCRIPTION:
URL:https://orange.lutheran.org.au/event/worship-service-lay-reading/2023-06-11/
LOCATION:St Peters Lutheran Church – Orange\, 12 Heathbrae Parade\, Orange\, NSW\, 2800\, Australia
CATEGORIES:Worship
GEO:-33.2668758;149.1073598
X-APPLE-STRUCTURED-LOCATION;VALUE=URI;X-ADDRESS=St Peters Lutheran Church – Orange 12 Heathbrae Parade Orange NSW 2800 Australia;X-APPLE-RADIUS=500;X-TITLE=12 Heathbrae Parade:geo:149.1073598,-33.2668758
END:VEVENT
BEGIN:VEVENT
DTSTART;TZID=Australia/Sydney:20230604T100000
DTEND;TZID=Australia/Sydney:20230604T110000
DTSTAMP:20260420T140252
CREATED:20230114T013413Z
LAST-MODIFIED:20230114T013413Z
UID:10000062-1685872800-1685876400@orange.lutheran.org.au
SUMMARY:Worship Service with Holy Communion
DESCRIPTION:
URL:https://orange.lutheran.org.au/event/worship-service-with-holy-communion/2023-06-04/
LOCATION:NSW
END:VEVENT
BEGIN:VEVENT
DTSTART;TZID=Australia/Sydney:20230604T100000
DTEND;TZID=Australia/Sydney:20230604T110000
DTSTAMP:20260420T140252
CREATED:20181217T052405Z
LAST-MODIFIED:20200209T025938Z
UID:10000353-1685872800-1685876400@orange.lutheran.org.au
SUMMARY:Worship Service with Holy Communion
DESCRIPTION:
URL:https://orange.lutheran.org.au/event/worship-service-lay-reading/2023-06-04/
LOCATION:St Peters Lutheran Church – Orange\, 12 Heathbrae Parade\, Orange\, NSW\, 2800\, Australia
CATEGORIES:Worship
GEO:-33.2668758;149.1073598
X-APPLE-STRUCTURED-LOCATION;VALUE=URI;X-ADDRESS=St Peters Lutheran Church – Orange 12 Heathbrae Parade Orange NSW 2800 Australia;X-APPLE-RADIUS=500;X-TITLE=12 Heathbrae Parade:geo:149.1073598,-33.2668758
END:VEVENT
BEGIN:VEVENT
DTSTART;TZID=Australia/Sydney:20230528T100000
DTEND;TZID=Australia/Sydney:20230528T110000
DTSTAMP:20260420T140252
CREATED:20230114T013413Z
LAST-MODIFIED:20230114T013413Z
UID:10000061-1685268000-1685271600@orange.lutheran.org.au
SUMMARY:Worship Service with Holy Communion
DESCRIPTION:
URL:https://orange.lutheran.org.au/event/worship-service-with-holy-communion/2023-05-28/
LOCATION:NSW
END:VEVENT
BEGIN:VEVENT
DTSTART;TZID=Australia/Sydney:20230528T100000
DTEND;TZID=Australia/Sydney:20230528T110000
DTSTAMP:20260420T140252
CREATED:20181217T052405Z
LAST-MODIFIED:20200209T025938Z
UID:10000352-1685268000-1685271600@orange.lutheran.org.au
SUMMARY:Worship Service with Holy Communion
DESCRIPTION:
URL:https://orange.lutheran.org.au/event/worship-service-lay-reading/2023-05-28/
LOCATION:St Peters Lutheran Church – Orange\, 12 Heathbrae Parade\, Orange\, NSW\, 2800\, Australia
CATEGORIES:Worship
GEO:-33.2668758;149.1073598
X-APPLE-STRUCTURED-LOCATION;VALUE=URI;X-ADDRESS=St Peters Lutheran Church – Orange 12 Heathbrae Parade Orange NSW 2800 Australia;X-APPLE-RADIUS=500;X-TITLE=12 Heathbrae Parade:geo:149.1073598,-33.2668758
END:VEVENT
BEGIN:VEVENT
DTSTART;TZID=Australia/Sydney:20230521T113000
DTEND;TZID=Australia/Sydney:20230521T123000
DTSTAMP:20260420T140252
CREATED:20181217T052530Z
LAST-MODIFIED:20181217T052715Z
UID:10000148-1684668600-1684672200@orange.lutheran.org.au
SUMMARY:Worship Service with Communion
DESCRIPTION:
URL:https://orange.lutheran.org.au/event/worship-service-with-communion/2023-05-21/
LOCATION:St Peters Lutheran Church – Orange\, 12 Heathbrae Parade\, Orange\, NSW\, 2800\, Australia
CATEGORIES:Worship
ATTACH;FMTTYPE=image/jpeg:https://orange.lutheran.org.au/wp-content/uploads/2018/12/communion-cup.jpg
GEO:-33.2668758;149.1073598
X-APPLE-STRUCTURED-LOCATION;VALUE=URI;X-ADDRESS=St Peters Lutheran Church – Orange 12 Heathbrae Parade Orange NSW 2800 Australia;X-APPLE-RADIUS=500;X-TITLE=12 Heathbrae Parade:geo:149.1073598,-33.2668758
END:VEVENT
BEGIN:VEVENT
DTSTART;TZID=Australia/Sydney:20230521T100000
DTEND;TZID=Australia/Sydney:20230521T110000
DTSTAMP:20260420T140252
CREATED:20230114T013413Z
LAST-MODIFIED:20230114T013413Z
UID:10000060-1684663200-1684666800@orange.lutheran.org.au
SUMMARY:Worship Service with Holy Communion
DESCRIPTION:
URL:https://orange.lutheran.org.au/event/worship-service-with-holy-communion/2023-05-21/
LOCATION:NSW
END:VEVENT
BEGIN:VEVENT
DTSTART;TZID=Australia/Sydney:20230514T100000
DTEND;TZID=Australia/Sydney:20230514T110000
DTSTAMP:20260420T140252
CREATED:20230114T013413Z
LAST-MODIFIED:20230114T013413Z
UID:10000059-1684058400-1684062000@orange.lutheran.org.au
SUMMARY:Worship Service with Holy Communion
DESCRIPTION:
URL:https://orange.lutheran.org.au/event/worship-service-with-holy-communion/2023-05-14/
LOCATION:NSW
END:VEVENT
BEGIN:VEVENT
DTSTART;TZID=Australia/Sydney:20230514T100000
DTEND;TZID=Australia/Sydney:20230514T110000
DTSTAMP:20260420T140252
CREATED:20181217T052405Z
LAST-MODIFIED:20200209T025938Z
UID:10000351-1684058400-1684062000@orange.lutheran.org.au
SUMMARY:Worship Service with Holy Communion
DESCRIPTION:
URL:https://orange.lutheran.org.au/event/worship-service-lay-reading/2023-05-14/
LOCATION:St Peters Lutheran Church – Orange\, 12 Heathbrae Parade\, Orange\, NSW\, 2800\, Australia
CATEGORIES:Worship
GEO:-33.2668758;149.1073598
X-APPLE-STRUCTURED-LOCATION;VALUE=URI;X-ADDRESS=St Peters Lutheran Church – Orange 12 Heathbrae Parade Orange NSW 2800 Australia;X-APPLE-RADIUS=500;X-TITLE=12 Heathbrae Parade:geo:149.1073598,-33.2668758
END:VEVENT
BEGIN:VEVENT
DTSTART;TZID=Australia/Sydney:20230507T100000
DTEND;TZID=Australia/Sydney:20230507T110000
DTSTAMP:20260420T140252
CREATED:20230114T013413Z
LAST-MODIFIED:20230114T013413Z
UID:10000058-1683453600-1683457200@orange.lutheran.org.au
SUMMARY:Worship Service with Holy Communion
DESCRIPTION:
URL:https://orange.lutheran.org.au/event/worship-service-with-holy-communion/2023-05-07/
LOCATION:NSW
END:VEVENT
BEGIN:VEVENT
DTSTART;TZID=Australia/Sydney:20230507T100000
DTEND;TZID=Australia/Sydney:20230507T110000
DTSTAMP:20260420T140252
CREATED:20181217T052405Z
LAST-MODIFIED:20200209T025938Z
UID:10000350-1683453600-1683457200@orange.lutheran.org.au
SUMMARY:Worship Service with Holy Communion
DESCRIPTION:
URL:https://orange.lutheran.org.au/event/worship-service-lay-reading/2023-05-07/
LOCATION:St Peters Lutheran Church – Orange\, 12 Heathbrae Parade\, Orange\, NSW\, 2800\, Australia
CATEGORIES:Worship
GEO:-33.2668758;149.1073598
X-APPLE-STRUCTURED-LOCATION;VALUE=URI;X-ADDRESS=St Peters Lutheran Church – Orange 12 Heathbrae Parade Orange NSW 2800 Australia;X-APPLE-RADIUS=500;X-TITLE=12 Heathbrae Parade:geo:149.1073598,-33.2668758
END:VEVENT
BEGIN:VEVENT
DTSTART;TZID=Australia/Sydney:20230430T100000
DTEND;TZID=Australia/Sydney:20230430T110000
DTSTAMP:20260420T140252
CREATED:20230114T013413Z
LAST-MODIFIED:20230114T013413Z
UID:10000057-1682848800-1682852400@orange.lutheran.org.au
SUMMARY:Worship Service with Holy Communion
DESCRIPTION:
URL:https://orange.lutheran.org.au/event/worship-service-with-holy-communion/2023-04-30/
LOCATION:NSW
END:VEVENT
BEGIN:VEVENT
DTSTART;TZID=Australia/Sydney:20230430T100000
DTEND;TZID=Australia/Sydney:20230430T110000
DTSTAMP:20260420T140252
CREATED:20181217T052405Z
LAST-MODIFIED:20200209T025938Z
UID:10000349-1682848800-1682852400@orange.lutheran.org.au
SUMMARY:Worship Service with Holy Communion
DESCRIPTION:
URL:https://orange.lutheran.org.au/event/worship-service-lay-reading/2023-04-30/
LOCATION:St Peters Lutheran Church – Orange\, 12 Heathbrae Parade\, Orange\, NSW\, 2800\, Australia
CATEGORIES:Worship
GEO:-33.2668758;149.1073598
X-APPLE-STRUCTURED-LOCATION;VALUE=URI;X-ADDRESS=St Peters Lutheran Church – Orange 12 Heathbrae Parade Orange NSW 2800 Australia;X-APPLE-RADIUS=500;X-TITLE=12 Heathbrae Parade:geo:149.1073598,-33.2668758
END:VEVENT
END:VCALENDAR